Workbook

Sheet 1727
A1: Sample Number | B1: Date | C1: Time UTC | D1: Latitude DD.DDDD | E1: Longitude DD.DDDD | F1: Nautical Classification | G1: Folk Classification | H1: Seabed Depth mCD | I1: Sampling Method | J1: Position Determination | K1: Position Uncertainty | L1: Number of Attempts | M1: Vessel | N1: CHP Contractor | O1: HI Number | P1: HI Name | Q1: Remarks
A2: B01_01 | B2: 45417 | C2: 0.60277778 | D2: 53.34150 | E2: 000.76514 | F2: P, G, cS,mS, fS, bkSh | G2: Sandy Gravel | H2: 18.6 | I2: 03 | J2: G+ | K2: 01 | L2: 3 | M2: M/V Northern Wind | N2: MCA | O2: 1727 | P2: Race Bank to Sheringham Shoal | Q2: Brown-beige, sand, pebbles, broken shells, feather algea, no smell
A3: B01_02 | B3: 45417 | C3: 0.58680556 | D3: 53.32082 | E3: 000.74427 | F3: mS, fS, cS, bkSh | G3: Sand | H3: 21.8 | I3: 03 | J3: G+ | K3: 01 | L3: 1 | M3: M/V Northern Wind | N3: MCA | O3: 1727 | P3: Race Bank to Sheringham Shoal | Q3: Sand, brown-beige, broken shells, one worm, no smell
A4: B02_03 | B4: 45418 | C4: 0.66736111 | D4: 53.28126 | E4: 000.77083 | F4: mS, G, bkSh, Sh, cS, fS | G4: Gravelly Sand | H4: 12.8 | I4: 03 | J4: G+ | K4: 01 | L4: 2 | M4: M/V Northern Wind | N4: MCA | O4: 1727 | P4: Race Bank to Sheringham Shoal | Q4: brown-beige, sand, pebbles, whole and broken shells, no smell
A5: B02_04 | B5: 45417 | C5: 0.62847222 | D5: 53.27966 | E5: 000.72838 | F5: G, P, bkSh, fS, cS, mS | G5: Gravel | H5: 22.1 | I5: 03 | J5: G+ | K5: 01 | L5: 3 | M5: M/V Northern Wind | N5: MCA | O5: 1727 | P5: Race Bank to Sheringham Shoal | Q5: Light brown sand, whole and broken shells, small rocks, gravel, little pebbles
A6: B03_05 | B6: 45417 | C6: 0.68333333 | D6: 53.25679 | E6: 000.76698 | F6: mS, cS, fS, G, bkSh | G6: Sand | H6: 14.7 | I6: 03 | J6: G+ | K6: 01 | L6: 2 | M6: M/V Northern Wind | N6: MCA | O6: 1727 | P6: Race Bank to Sheringham Shoal | Q6: brown-beige, sand, pebbles, broken shells, no smell
A7: B04_06 | B7: 45417 | C7: 0.69652778 | D7: 53.24178 | E7: 000.72976 | F7: mS, cS, fS, G, bkSh | G7: Sand | H7: 25.8 | I7: 03 | J7: G+ | K7: 01 | L7: 1 | M7: M/V Northern Wind | N7: MCA | O7: 1727 | P7: Race Bank to Sheringham Shoal | Q7: Brown-beige, sand, broken shells, one shell, small black pieces of gravel, no smell
A8: B04_07 | B8: 45417 | C8: 17.42 | D8: 53.22440 | E8: 000.79525 | F8: P,G,cS, mS, fS,bkSh | G8: Sandy Gravel | H8: 22.2 | I8: 03 | J8: G+ | K8: 01 | L8: 3 | M8: M/V Northern Wind | N8: MCA | O8: 1727 | P8: Race Bank to Sheringham Shoal | Q8: Brown-beige, gravel, pebbles, tubes from tube worms, small rocks, sand, no smell
A9: B05_08 | B9: 45417 | C9: 0.71111111 | D9: 53.20577 | E9: 000.73047 | F9: mS, cS,fS, G, bkSh, Sh | G9: Sand | H9: 13.4 | I9: 03 | J9: G+ | K9: 01 | L9: 3 | M9: M/V Northern Wind | N9: MCA | O9: 1727 | P9: Race Bank to Sheringham Shoal | Q9: Brown-beige, sand, broken and whole shells, a worm, no smell
A10: B05_09 | B10: 45417 | C10: 0.72222222 | D10: 53.18496 | E10: 000.77194 | F10: bkSh, mS, cS, G, fS | G10: Gravelly Sand | H10: 10.8 | I10: 03 | J10: G+ | K10: 01 | L10: 1 | M10: M/V Northern Wind | N10: MCA | O10: 1727 | P10: Race Bank to Sheringham Shoal | Q10: Brown-beige, sand, broken shells, whole shells, no smell
A11: B06_10 | B11: 45417 | C11: 0.75694444 | D11: 53.21820 | E11: 000.86401 | F11: mS, fS, cS, bkSh | G11: Sand | H11: 17.7 | I11: 03 | J11: G+ | K11: 01 | L11: 1 | M11: M/V Northern Wind | N11: MCA | O11: 1727 | P11: Race Bank to Sheringham Shoal | Q11: Brown-beige, sand, small shredds of shells and pebbles, no smell
A12: B06_11 | B12: 45417 | C12: 18:28 | D12: 53.20640 | E12: 000.92126 | F12: Sh, bkSh, P,G, Al | G12: Gravel | H12: 17.9 | I12: 03 | J12: G+ | K12: 01 | L12: 3 | M12: M/V Northern Wind | N12: MCA | O12: 1727 | P12: Race Bank to Sheringham Shoal | Q12: Brown-yellow, broken shells, stones, pebbles, barnacles, algea, whole shell, one worm, no smell
A13: B07_12 | B13: 45418 | C13: 10:28 | D13: 53.17652 | E13: 000.93234 | F13: P,G,cS,fS,bkSh | G13: Gravel | H13: 20.1 | I13: 03 | J13: G+ | K13: 01 | L13: 3 | M13: M/V Northern Wind | N13: MCA | O13: 1727 | P13: Race Bank to Sheringham Shoal | Q13: Brown-beige, whole shells, pebbles, broken shells, barncales, gravel, sand, sea weed
A14: B08_13 | B14: 45418 | C14: 12:05 | D14: 53.17451 | E14: 000.87257 | F14: bkSh, G, cS, mS, fS | G14: Sandy Gravel | H14: 25 | I14: 03 | J14: G+ | K14: 01 | L14: 3 | M14: M/V Northern Wind | N14: MCA | O14: 1727 | P14: Race Bank to Sheringham Shoal | Q14: Brown-beige, broken shells, gravel, pebbles, whole shells, barnacles, sand
A15: B09_14 | B15: 45418 | C15: 11:47 | D15: 53.16456 | E15: 000.82806 | F15: mS, cS, fS, bkSh | G15: Sand | H15: 14.6 | I15: 03 | J15: G+ | K15: 01 | L15: 1 | M15: M/V Northern Wind | N15: MCA | O15: 1727 | P15: Race Bank to Sheringham Shoal | Q15: Brown-beige, sand, black minerals, small pieces of shells
A16: B09_15 | B16: 45418 | C16: 11:29 | D16: 53.13316 | E16: 000.86946 | F16: bkSh, G | G16: Gravel | H16: 15.9 | I16: 03 | J16: G+ | K16: 01 | L16: 3 | M16: M/V Northern Wind | N16: MCA | O16: 1727 | P16: Race Bank to Sheringham Shoal | Q16: Brown-beige, broken shells, gravel, sand, whole shells, barnacles
A17: B09_16 | B17: 45418 | C17: 11:09 | D17: 53.13197 | E17: 000.93137 | F17: Cb, P, bkSh, Sh, Al | G17: Gravel | H17: 18.4 | I17: 03 | J17: G+ | K17: 01 | L17: 3 | M17: M/V Northern Wind | N17: MCA | O17: 1727 | P17: Race Bank to Sheringham Shoal | Q17: Brown-beige, pebbles, shells, gravel, broken shells, barnacles, some crabs, algea , keel worm
A18: B10_17 | B18: 45418 | C18: 10:09 | D18: 53.19294 | E18: 000.99151 | F18: P, G, bkSh | G18: Gravel | H18: 18.2 | I18: 03 | J18: G+ | K18: 01 | L18: 3 | M18: M/V Northern Wind | N18: MCA | O18: 1727 | P18: Race Bank to Sheringham Shoal | Q18: Brown-beige, pebbles, cobbles, whole shells,barnacles, sponges, a few crabs, a worm, sea weed
A19: B10_18 | B19: 45418 | C19: 09:21 | D19: 53.16221 | E19: 001.07212 | F19: P, cS, G, bkSh | G19: Gravel | H19: 21.2 | I19: 03 | J19: G+ | K19: 01 | L19: 3 | M19: M/V Northern Wind | N19: MCA | O19: 1727 | P19: Race Bank to Sheringham Shoal | Q19: brownish, pebbles, whole shells, bk shells, gravel, barnacles, tubes of keel wormes, algea, no smell
A20: B11_19 | B20: 45418 | C20: 09:50 | D20: 53.15243 | E20: 001.01013 | F20: P, G, Sh, bkSh | G20: Gravel | H20: 16.4 | I20: 03 | J20: G+ | K20: 01 | L20: 3 | M20: M/V Northern Wind | N20: MCA | O20: 1727 | P20: Race Bank to Sheringham Shoal | Q20: Brown-beige, pebbles, broken shells, gravel, whole shells, barnacles, sea weed
A21: B11_20 | B21: 45418 | C21: 09:00 | D21: 53.12100 | E21: 001.08538 | F21: mS,Sh, bkSh, fS, cS | G21: Sand | H21: 21.4 | I21: 03 | J21: G+ | K21: 01 | L21: 3 | M21: M/V Northern Wind | N21: MCA | O21: 1727 | P21: Race Bank to Sheringham Shoal | Q21: Brown-beige, sand, whole shells, one oyster shell, pebbles, no smell
A22: B12_21 | B22: 45418 | C22: 08:35 | D22: 53.11155 | E22: 001.00772 | F22: mS, cS, bkSh, G, P | G22: Gravelly Sand | H22: 21 | I22: 03 | J22: G+ | K22: 01 | L22: 2 | M22: M/V Northern Wind | N22: MCA | O22: 1727 | P22: Race Bank to Sheringham Shoal | Q22: Brown-beige, sand, gravel, pebbles,broken shells, whole shell, one small star fish
A23: B13_22 | B23: 45418 | C23: 07:52 | D23: 53.09094 | E23: 000.97993 | F23: Cb, P, Sh, cS, mS | G23: Gravel | H23: 17.3 | I23: 03 | J23: G+ | K23: 01 | L23: 3 | M23: M/V Northern Wind | N23: MCA | O23: 1727 | P23: Race Bank to Sheringham Shoal | Q23: Brown-beige, cobbles, pebbles, whole shells, barnacles, sea weed, sponges
... A27: B14_26 | B27: 45418 | C27: 05:51 | D27: 53.09310 | E27: 001.17088 | F27: bkSh, P, Sh, cS, mS | G27: Gravel | H27: 21.4 | I27: 03 | J27: G+ | K27: 01 | L27: 3 | M27: M/V Northern Wind | N27: MCA | O27: 1727 | P27: Race Bank to Sheringham Shoal | Q27: Brown-beige, pebbles,broken shells, gravel, sponge, hermit crab shells, no smell

Sheet Fraction tool
A3: Sample Name | B3: Gravel [%] | C3: Coarse Sand [%] | D3: Medium Sand [%] | E3: Fine Sand [%] | F3: Mud [%] | G3: TOT[%] | H3: Folk Classification | I3: Between Classifications
A4: ='1727'!A2 -> B01_01
B5: 75 | C5: 14 | D5: 6 | E5: 5 | F5: 0 | G5: =SUM(B5:F5) -> 100 | H5: =IF(G5<>100,"",IF(B5>80,"Gravel",IF(AND(B5>30,(F5>=C5+D5+E5)),"Muddy Gravel",IF(AND(B5>30,((F5*9)>=C5+D5+E5)),"Muddy Sandy Gravel",IF(B5>30,"Sandy Gravel",IF(AND(B5>5,F5>=C5+D5+E5),"Gravelly Mud",IF(AND(B5>5,F5*9 >= C5+D5+E5),"Gravelly Muddy Sand",IF(B5>5,"Gravelly Sand",IF(F5/9>=C5+D5+E5,"Mud",IF(F5>=C5+D5+E5,"Sandy Mud",IF(F5*9 >=C5+D5+E5,"Muddy Sand","Sand"))))))))))) -> Sandy Gravel | I5: =IF(G5<>100,"",IF(B5=80,"Yes",IF(B5=30,"Yes",IF(B5=5,"Yes",IF(AND(B5<80,F5=C5+D5+E5),"Yes",IF(AND(B5<5,F5*9=C5+D5+E5),"Yes",IF(AND(B5<80,F5/9=C5+D5+E5),"Yes","No"))))))) -> No
A7: Sample Name | B7: Gravel [%] | C7: Coarse Sand [%] | D7: Medium Sand [%] | E7: Fine Sand [%] | F7: Mud [%] | G7: TOT[%] | H7: Folk Classification | I7: Between Classifications
A8: ='1727'!A3 -> B01_02
B9: 0 | C9: 5 | D9: 50 | E9: 45 | F9: 0 | G9: =SUM(B9:F9) -> 100 | H9: =IF(G9<>100,"",IF(B9>80,"Gravel",IF(AND(B9>30,(F9>=C9+D9+E9)),"Muddy Gravel",IF(AND(B9>30,((F9*9)>=C9+D9+E9)),"Muddy Sandy Gravel",IF(B9>30,"Sandy Gravel",IF(AND(B9>5,F9>=C9+D9+E9),"Gravelly Mud",IF(AND(B9>5,F9*9 >= C9+D9+E9),"Gravelly Muddy Sand",IF(B9>5,"Gravelly Sand",IF(F9/9>=C9+D9+E9,"Mud",IF(F9>=C9+D9+E9,"Sandy Mud",IF(F9*9 >=C9+D9+E9,"Muddy Sand","Sand"))))))))))) -> Sand | I9: =IF(G9<>100,"",IF(B9=80,"Yes",IF(B9=30,"Yes",IF(B9=5,"Yes",IF(AND(B9<80,F9=C9+D9+E9),"Yes",IF(AND(B9<5,F9*9=C9+D9+E9),"Yes",IF(AND(B9<80,F9/9=C9+D9+E9),"Yes","No"))))))) -> No
A11: Sample Name | B11: Gravel [%] | C11: Coarse Sand [%] | D11: Medium Sand [%] | E11: Fine Sand [%] | F11: Mud [%] | G11: TOT[%] | H11: Folk Classification | I11: Between Classifications
A12: ='1727'!A4 -> B02_03
B13: 30 | C13: 25 | D13: 35 | E13: 10 | F13: 0 | G13: =SUM(B13:F13) -> 100 | H13: =IF(G13<>100,"",IF(B13>80,"Gravel",IF(AND(B13>30,(F13>=C13+D13+E13)),"Muddy Gravel",IF(AND(B13>30,((F13*9)>=C13+D13+E13)),"Muddy Sandy Gravel",IF(B13>30,"Sandy Gravel",IF(AND(B13>5,F13>=C13+D13+E13),"Gravelly Mud",IF(AND(B13>5,F13*9 >= C13+D13+E13),"Gravelly Muddy Sand",IF(B13>5,"Gravelly Sand",IF(F13/9>=C13+D13+E13,"Mud",IF(F13>=C13+D13+E13,"Sandy Mud",IF(F13*9 >=C13+D13+E13,"Muddy Sand","Sand"))))))))))) -> Gravelly Sand | I13: =IF(G13<>100,"",IF(B13=80,"Yes",IF(B13=30,"Yes",IF(B13=5,"Yes",IF(AND(B13<80,F13=C13+D13+E13),"Yes",IF(AND(B13<5,F13*9=C13+D13+E13),"Yes",IF(AND(B13<80,F13/9=C13+D13+E13),"Yes","No"))))))) -> Yes
A15: Sample Name | B15: Gravel [%] | C15: Coarse Sand [%] | D15: Medium Sand [%] | E15: Fine Sand [%] | F15: Mud [%] | G15: TOT[%] | H15: Folk Classification | I15: Between Classifications
A16: ='1727'!A5 -> B02_04
B17: 90 | C17: 3 | D17: 2 | E17: 5 | G17: =SUM(B17:F17) -> 100 | H17: =IF(G17<>100,"",IF(B17>80,"Gravel",IF(AND(B17>30,(F17>=C17+D17+E17)),"Muddy Gravel",IF(AND(B17>30,((F17*9)>=C17+D17+E17)),"Muddy Sandy Gravel",IF(B17>30,"Sandy Gravel",IF(AND(B17>5,F17>=C17+D17+E17),"Gravelly Mud",IF(AND(B17>5,F17*9 >= C17+D17+E17),"Gravelly Muddy Sand",IF(B17>5,"Gravelly Sand",IF(F17/9>=C17+D17+E17,"Mud",IF(F17>=C17+D17+E17,"Sandy Mud",IF(F17*9 >=C17+D17+E17,"Muddy Sand","Sand"))))))))))) -> Gravel | I17: =IF(G17<>100,"",IF(B17=80,"Yes",IF(B17=30,"Yes",IF(B17=5,"Yes",IF(AND(B17<80,F17=C17+D17+E17),"Yes",IF(AND(B17<5,F17*9=C17+D17+E17),"Yes",IF(AND(B17<80,F17/9=C17+D17+E17),"Yes","No"))))))) -> No
A19: Sample Name | B19: Gravel [%] | C19: Coarse Sand [%] | D19: Medium Sand [%] | E19: Fine Sand [%] | F19: Mud [%] | G19: TOT[%] | H19: Folk Classification | I19: Between Classifications
A20: ='1727'!A6 -> B03_05
B21: 2 | C21: 30 | D21: 50 | E21: 18 | F21: 0 | G21: =SUM(B21:F21) -> 100 | H21: =IF(G21<>100,"",IF(B21>80,"Gravel",IF(AND(B21>30,(F21>=C21+D21+E21)),"Muddy Gravel",IF(AND(B21>30,((F21*9)>=C21+D21+E21)),"Muddy Sandy Gravel",IF(B21>30,"Sandy Gravel",IF(AND(B21>5,F21>=C21+D21+E21),"Gravelly Mud",IF(AND(B21>5,F21*9 >= C21+D21+E21),"Gravelly Muddy Sand",IF(B21>5,"Gravelly Sand",IF(F21/9>=C21+D21+E21,"Mud",IF(F21>=C21+D21+E21,"Sandy Mud",IF(F21*9 >=C21+D21+E21,"Muddy Sand","Sand"))))))))))) -> Sand | I21: =IF(G21<>100,"",IF(B21=80,"Yes",IF(B21=30,"Yes",IF(B21=5,"Yes",IF(AND(B21<80,F21=C21+D21+E21),"Yes",IF(AND(B21<5,F21*9=C21+D21+E21),"Yes",IF(AND(B21<80,F21/9=C21+D21+E21),"Yes","No"))))))) -> No
A23: Sample Name | B23: Gravel [%] | C23: Coarse Sand [%] | D23: Medium Sand [%] | E23: Fine Sand [%] | F23: Mud [%] | G23: TOT[%] | H23: Folk Classification | I23: Between Classifications
A24: ='1727'!A7 -> B04_06
B25: 5 | C25: 15 | D25: 70 | E25: 10 | F25: 0 | G25: =SUM(B25:F25) -> 100 | H25: =IF(G25<>100,"",IF(B25>80,"Gravel",IF(AND(B25>30,(F25>=C25+D25+E25)),"Muddy Gravel",IF(AND(B25>30,((F25*9)>=C25+D25+E25)),"Muddy Sandy Gravel",IF(B25>30,"Sandy Gravel",IF(AND(B25>5,F25>=C25+D25+E25),"Gravelly Mud",IF(AND(B25>5,F25*9 >= C25+D25+E25),"Gravelly Muddy Sand",IF(B25>5,"Gravelly Sand",IF(F25/9>=C25+D25+E25,"Mud",IF(F25>=C25+D25+E25,"Sandy Mud",IF(F25*9 >=C25+D25+E25,"Muddy Sand","Sand"))))))))))) -> Sand | I25: =IF(G25<>100,"",IF(B25=80,"Yes",IF(B25=30,"Yes",IF(B25=5,"Yes",IF(AND(B25<80,F25=C25+D25+E25),"Yes",IF(AND(B25<5,F25*9=C25+D25+E25),"Yes",IF(AND(B25<80,F25/9=C25+D25+E25),"Yes","No"))))))) -> Yes
A27: Sample Name | B27: Gravel [%] | C27: Coarse Sand [%] | D27: Medium Sand [%] | E27: Fine Sand [%] | F27: Mud [%] | G27: TOT[%] | H27: Folk Classification | I27: Between Classifications
A28: ='1727'!A8 -> B04_07
B29: 50 | C29: 25 | D29: 15 | E29: 10 | G29: =SUM(B29:F29) -> 100 | H29: =IF(G29<>100,"",IF(B29>80,"Gravel",IF(AND(B29>30,(F29>=C29+D29+E29)),"Muddy Gravel",IF(AND(B29>30,((F29*9)>=C29+D29+E29)),"Muddy Sandy Gravel",IF(B29>30,"Sandy Gravel",IF(AND(B29>5,F29>=C29+D29+E29),"Gravelly Mud",IF(AND(B29>5,F29*9 >= C29+D29+E29),"Gravelly Muddy Sand",IF(B29>5,"Gravelly Sand",IF(F29/9>=C29+D29+E29,"Mud",IF(F29>=C29+D29+E29,"Sandy Mud",IF(F29*9 >=C29+D29+E29,"Muddy Sand","Sand"))))))))))) -> Sandy Gravel | I29: =IF(G29<>100,"",IF(B29=80,"Yes",IF(B29=30,"Yes",IF(B29=5,"Yes",IF(AND(B29<80,F29=C29+D29+E29),"Yes",IF(AND(B29<5,F29*9=C29+D29+E29),"Yes",IF(AND(B29<80,F29/9=C29+D29+E29),"Yes","No"))))))) -> No
A31: Sample Name | B31: Gravel [%] | C31: Coarse Sand [%] | D31: Medium Sand [%] | E31: Fine Sand [%] | F31: Mud [%] | G31: TOT[%] | H31: Folk Classification | I31: Between Classifications
A32: ='1727'!A9 -> B05_08
B33: 5 | C33: 30 | D33: 50 | E33: 15 | F33: 0 | G33: =SUM(B33:F33) -> 100 | H33: =IF(G33<>100,"",IF(B33>80,"Gravel",IF(AND(B33>30,(F33>=C33+D33+E33)),"Muddy Gravel",IF(AND(B33>30,((F33*9)>=C33+D33+E33)),"Muddy Sandy Gravel",IF(B33>30,"Sandy Gravel",IF(AND(B33>5,F33>=C33+D33+E33),"Gravelly Mud",IF(AND(B33>5,F33*9 >= C33+D33+E33),"Gravelly Muddy Sand",IF(B33>5,"Gravelly Sand",IF(F33/9>=C33+D33+E33,"Mud",IF(F33>=C33+D33+E33,"Sandy Mud",IF(F33*9 >=C33+D33+E33,"Muddy Sand","Sand"))))))))))) -> Sand | I33: =IF(G33<>100,"",IF(B33=80,"Yes",IF(B33=30,"Yes",IF(B33=5,"Yes",IF(AND(B33<80,F33=C33+D33+E33),"Yes",IF(AND(B33<5,F33*9=C33+D33+E33),"Yes",IF(AND(B33<80,F33/9=C33+D33+E33),"Yes","No"))))))) -> Yes
A35: Sample Name | B35: Gravel [%] | C35: Coarse Sand [%] | D35: Medium Sand [%] | E35: Fine Sand [%] | F35: Mud [%] | G35: TOT[%] | H35: Folk Classification | I35: Between Classifications
A36: ='1727'!A10 -> B05_09
B37: 20 | C37: 30 | D37: 40 | E37: 10 | F37: 0 | G37: =SUM(B37:F37) -> 100 | H37: =IF(G37<>100,"",IF(B37>80,"Gravel",IF(AND(B37>30,(F37>=C37+D37+E37)),"Muddy Gravel",IF(AND(B37>30,((F37*9)>=C37+D37+E37)),"Muddy Sandy Gravel",IF(B37>30,"Sandy Gravel",IF(AND(B37>5,F37>=C37+D37+E37),"Gravelly Mud",IF(AND(B37>5,F37*9 >= C37+D37+E37),"Gravelly Muddy Sand",IF(B37>5,"Gravelly Sand",IF(F37/9>=C37+D37+E37,"Mud",IF(F37>=C37+D37+E37,"Sandy Mud",IF(F37*9 >=C37+D37+E37,"Muddy Sand","Sand"))))))))))) -> Gravelly Sand | I37: =IF(G37<>100,"",IF(B37=80,"Yes",IF(B37=30,"Yes",IF(B37=5,"Yes",IF(AND(B37<80,F37=C37+D37+E37),"Yes",IF(AND(B37<5,F37*9=C37+D37+E37),"Yes",IF(AND(B37<80,F37/9=C37+D37+E37),"Yes","No"))))))) -> No
A39: Sample Name | B39: Gravel [%] | C39: Coarse Sand [%] | D39: Medium Sand [%] | E39: Fine Sand [%] | F39: Mud [%] | G39: TOT[%] | H39: Folk Classification | I39: Between Classifications
A40: ='1727'!A11 -> B06_10
B41: 2.5 | C41: 7.5 | D41: 50 | E41: 40 | G41: =SUM(B41:F41) -> 100 | H41: =IF(G41<>100,"",IF(B41>80,"Gravel",IF(AND(B41>30,(F41>=C41+D41+E41)),"Muddy Gravel",IF(AND(B41>30,((F41*9)>=C41+D41+E41)),"Muddy Sandy Gravel",IF(B41>30,"Sandy Gravel",IF(AND(B41>5,F41>=C41+D41+E41),"Gravelly Mud",IF(AND(B41>5,F41*9 >= C41+D41+E41),"Gravelly Muddy Sand",IF(B41>5,"Gravelly Sand",IF(F41/9>=C41+D41+E41,"Mud",IF(F41>=C41+D41+E41,"Sandy Mud",IF(F41*9 >=C41+D41+E41,"Muddy Sand","Sand"))))))))))) -> Sand | I41: =IF(G41<>100,"",IF(B41=80,"Yes",IF(B41=30,"Yes",IF(B41=5,"Yes",IF(AND(B41<80,F41=C41+D41+E41),"Yes",IF(AND(B41<5,F41*9=C41+D41+E41),"Yes",IF(AND(B41<80,F41/9=C41+D41+E41),"Yes","No"))))))) -> No
A43: Sample Name | B43: Gravel [%] | C43: Coarse Sand [%] | D43: Medium Sand [%] | E43: Fine Sand [%] | F43: Mud [%] | G43: TOT[%] | H43: Folk Classification | I43: Between Classifications
A44: ='1727'!A12 -> B06_11
B45: 100 | C45: 0 | D45: 0 | E45: 0 | F45: 0 | G45: =SUM(B45:F45) -> 100 | H45: =IF(G45<>100,"",IF(B45>80,"Gravel",IF(AND(B45>30,(F45>=C45+D45+E45)),"Muddy Gravel",IF(AND(B45>30,((F45*9)>=C45+D45+E45)),"Muddy Sandy Gravel",IF(B45>30,"Sandy Gravel",IF(AND(B45>5,F45>=C45+D45+E45),"Gravelly Mud",IF(AND(B45>5,F45*9 >= C45+D45+E45),"Gravelly Muddy Sand",IF(B45>5,"Gravelly Sand",IF(F45/9>=C45+D45+E45,"Mud",IF(F45>=C45+D45+E45,"Sandy Mud",IF(F45*9 >=C45+D45+E45,"Muddy Sand","Sand"))))))))))) -> Gravel | I45: =IF(G45<>100,"",IF(B45=80,"Yes",IF(B45=30,"Yes",IF(B45=5,"Yes",IF(AND(B45<80,F45=C45+D45+E45),"Yes",IF(AND(B45<5,F45*9=C45+D45+E45),"Yes",IF(AND(B45<80,F45/9=C45+D45+E45),"Yes","No"))))))) -> No
A47: Sample Name | B47: Gravel [%] | C47: Coarse Sand [%] | D47: Medium Sand [%] | E47: Fine Sand [%] | F47: Mud [%] | G47: TOT[%] | H47: Folk Classification | I47: Between Classifications
A48: ='1727'!A13 -> B07_12
B49: 95 | C49: 3 | D49: 2 | E49: 1 | F49: 0 | G49: =SUM(B49:F49) -> 101 | H49: =IF(G49<>100,"",IF(B49>80,"Gravel",IF(AND(B49>30,(F49>=C49+D49+E49)),"Muddy Gravel",IF(AND(B49>30,((F49*9)>=C49+D49+E49)),"Muddy Sandy Gravel",IF(B49>30,"Sandy Gravel",IF(AND(B49>5,F49>=C49+D49+E49),"Gravelly Mud",IF(AND(B49>5,F49*9 >= C49+D49+E49),"Gravelly Muddy Sand",IF(B49>5,"Gravelly Sand",IF(F49/9>=C49+D49+E49,"Mud",IF(F49>=C49+D49+E49,"Sandy Mud",IF(F49*9 >=C49+D49+E49,"Muddy Sand","Sand"))))))))))) | I49: =IF(G49<>100,"",IF(B49=80,"Yes",IF(B49=30,"Yes",IF(B49=5,"Yes",IF(AND(B49<80,F49=C49+D49+E49),"Yes",IF(AND(B49<5,F49*9=C49+D49+E49),"Yes",IF(AND(B49<80,F49/9=C49+D49+E49),"Yes","No")))))))
A51: Sample Name | B51: Gravel [%] | C51: Coarse Sand [%] | D51: Medium Sand [%] | E51: Fine Sand [%] | F51: Mud [%] | G51: TOT[%] | H51: Folk Classification | I51: Between Classifications
A52: ='1727'!A14 -> B08_13
B53: 80 | C53: 10 | D53: 7.5 | E53: 2.5 | F53: 0 | G53: =SUM(B53:F53) -> 100 | H53: =IF(G53<>100,"",IF(B53>80,"Gravel",IF(AND(B53>30,(F53>=C53+D53+E53)),"Muddy Gravel",IF(AND(B53>30,((F53*9)>=C53+D53+E53)),"Muddy Sandy Gravel",IF(B53>30,"Sandy Gravel",IF(AND(B53>5,F53>=C53+D53+E53),"Gravelly Mud",IF(AND(B53>5,F53*9 >= C53+D53+E53),"Gravelly Muddy Sand",IF(B53>5,"Gravelly Sand",IF(F53/9>=C53+D53+E53,"Mud",IF(F53>=C53+D53+E53,"Sandy Mud",IF(F53*9 >=C53+D53+E53,"Muddy Sand","Sand"))))))))))) -> Sandy Gravel | I53: =IF(G53<>100,"",IF(B53=80,"Yes",IF(B53=30,"Yes",IF(B53=5,"Yes",IF(AND(B53<80,F53=C53+D53+E53),"Yes",IF(AND(B53<5,F53*9=C53+D53+E53),"Yes",IF(AND(B53<80,F53/9=C53+D53+E53),"Yes","No"))))))) -> Yes
A55: Sample Name | B55: Gravel [%] | C55: Coarse Sand [%] | D55: Medium Sand [%] | E55: Fine Sand [%] | F55: Mud [%] | G55: TOT[%] | H55: Folk Classification | I55: Between Classifications
A56: ='1727'!A15 -> B09_14
B57: 0 | C57: 20 | D57: 50 | E57: 30 | G57: =SUM(B57:F57) -> 100 | H57: =IF(G57<>100,"",IF(B57>80,"Gravel",IF(AND(B57>30,(F57>=C57+D57+E57)),"Muddy Gravel",IF(AND(B57>30,((F57*9)>=C57+D57+E57)),"Muddy Sandy Gravel",IF(B57>30,"Sandy Gravel",IF(AND(B57>5,F57>=C57+D57+E57),"Gravelly Mud",IF(AND(B57>5,F57*9 >= C57+D57+E57),"Gravelly Muddy Sand",IF(B57>5,"Gravelly Sand",IF(F57/9>=C57+D57+E57,"Mud",IF(F57>=C57+D57+E57,"Sandy Mud",IF(F57*9 >=C57+D57+E57,"Muddy Sand","Sand"))))))))))) -> Sand | I57: =IF(G57<>100,"",IF(B57=80,"Yes",IF(B57=30,"Yes",IF(B57=5,"Yes",IF(AND(B57<80,F57=C57+D57+E57),"Yes",IF(AND(B57<5,F57*9=C57+D57+E57),"Yes",IF(AND(B57<80,F57/9=C57+D57+E57),"Yes","No"))))))) -> No
A59: Sample Name | B59: Gravel [%] | C59: Coarse Sand [%] | D59: Medium Sand [%] | E59: Fine Sand [%] | F59: Mud [%] | G59: TOT[%] | H59: Folk Classification | I59: Between Classifications
A60: ='1727'!A16 -> B09_15
B61: 90 | C61: 5 | D61: 3 | E61: 2 | F61: 0 | G61: =SUM(B61:F61) -> 100 | H61: =IF(G61<>100,"",IF(B61>80,"Gravel",IF(AND(B61>30,(F61>=C61+D61+E61)),"Muddy Gravel",IF(AND(B61>30,((F61*9)>=C61+D61+E61)),"Muddy Sandy Gravel",IF(B61>30,"Sandy Gravel",IF(AND(B61>5,F61>=C61+D61+E61),"Gravelly Mud",IF(AND(B61>5,F61*9 >= C61+D61+E61),"Gravelly Muddy Sand",IF(B61>5,"Gravelly Sand",IF(F61/9>=C61+D61+E61,"Mud",IF(F61>=C61+D61+E61,"Sandy Mud",IF(F61*9 >=C61+D61+E61,"Muddy Sand","Sand"))))))))))) -> Gravel | I61: =IF(G61<>100,"",IF(B61=80,"Yes",IF(B61=30,"Yes",IF(B61=5,"Yes",IF(AND(B61<80,F61=C61+D61+E61),"Yes",IF(AND(B61<5,F61*9=C61+D61+E61),"Yes",IF(AND(B61<80,F61/9=C61+D61+E61),"Yes","No"))))))) -> No
A63: Sample Name | B63: Gravel [%] | C63: Coarse Sand [%] | D63: Medium Sand [%] | E63: Fine Sand [%] | F63: Mud [%] | G63: TOT[%] | H63: Folk Classification | I63: Between Classifications
A64: ='1727'!A17 -> B09_16
B65: 90 | C65: 5 | D65: 2.5 | E65: 2.5 | F65: 0 | G65: =SUM(B65:F65) -> 100 | H65: =IF(G65<>100,"",IF(B65>80,"Gravel",IF(AND(B65>30,(F65>=C65+D65+E65)),"Muddy Gravel",IF(AND(B65>30,((F65*9)>=C65+D65+E65)),"Muddy Sandy Gravel",IF(B65>30,"Sandy Gravel",IF(AND(B65>5,F65>=C65+D65+E65),"Gravelly Mud",IF(AND(B65>5,F65*9 >= C65+D65+E65),"Gravelly Muddy Sand",IF(B65>5,"Gravelly Sand",IF(F65/9>=C65+D65+E65,"Mud",IF(F65>=C65+D65+E65,"Sandy Mud",IF(F65*9 >=C65+D65+E65,"Muddy Sand","Sand"))))))))))) -> Gravel | I65: =IF(G65<>100,"",IF(B65=80,"Yes",IF(B65=30,"Yes",IF(B65=5,"Yes",IF(AND(B65<80,F65=C65+D65+E65),"Yes",IF(AND(B65<5,F65*9=C65+D65+E65),"Yes",IF(AND(B65<80,F65/9=C65+D65+E65),"Yes","No"))))))) -> No
A67: Sample Name | B67: Gravel [%] | C67: Coarse Sand [%] | D67: Medium Sand [%] | E67: Fine Sand [%] | F67: Mud [%] | G67: TOT[%] | H67: Folk Classification | I67: Between Classifications
A68: ='1727'!A18 -> B10_17
B69: 95 | C69: 3 | D69: 1 | E69: 1 | G69: =SUM(B69:F69) -> 100 | H69: =IF(G69<>100,"",IF(B69>80,"Gravel",IF(AND(B69>30,(F69>=C69+D69+E69)),"Muddy Gravel",IF(AND(B69>30,((F69*9)>=C69+D69+E69)),"Muddy Sandy Gravel",IF(B69>30,"Sandy Gravel",IF(AND(B69>5,F69>=C69+D69+E69),"Gravelly Mud",IF(AND(B69>5,F69*9 >= C69+D69+E69),"Gravelly Muddy Sand",IF(B69>5,"Gravelly Sand",IF(F69/9>=C69+D69+E69,"Mud",IF(F69>=C69+D69+E69,"Sandy Mud",IF(F69*9 >=C69+D69+E69,"Muddy Sand","Sand"))))))))))) -> Gravel | I69: =IF(G69<>100,"",IF(B69=80,"Yes",IF(B69=30,"Yes",IF(B69=5,"Yes",IF(AND(B69<80,F69=C69+D69+E69),"Yes",IF(AND(B69<5,F69*9=C69+D69+E69),"Yes",IF(AND(B69<80,F69/9=C69+D69+E69),"Yes","No"))))))) -> No
A71: Sample Name | B71: Gravel [%] | C71: Coarse Sand [%] | D71: Medium Sand [%] | E71: Fine Sand [%] | F71: Mud [%] | G71: TOT[%] | H71: Folk Classification | I71: Between Classifications
A72: ='1727'!A19 -> B10_18
B73: 90 | C73: 5 | D73: 3 | E73: 2 | G73: =SUM(B73:F73) -> 100 | H73: =IF(G73<>100,"",IF(B73>80,"Gravel",IF(AND(B73>30,(F73>=C73+D73+E73)),"Muddy Gravel",IF(AND(B73>30,((F73*9)>=C73+D73+E73)),"Muddy Sandy Gravel",IF(B73>30,"Sandy Gravel",IF(AND(B73>5,F73>=C73+D73+E73),"Gravelly Mud",IF(AND(B73>5,F73*9 >= C73+D73+E73),"Gravelly Muddy Sand",IF(B73>5,"Gravelly Sand",IF(F73/9>=C73+D73+E73,"Mud",IF(F73>=C73+D73+E73,"Sandy Mud",IF(F73*9 >=C73+D73+E73,"Muddy Sand","Sand"))))))))))) -> Gravel | I73: =IF(G73<>100,"",IF(B73=80,"Yes",IF(B73=30,"Yes",IF(B73=5,"Yes",IF(AND(B73<80,F73=C73+D73+E73),"Yes",IF(AND(B73<5,F73*9=C73+D73+E73),"Yes",IF(AND(B73<80,F73/9=C73+D73+E73),"Yes","No"))))))) -> No
A75: Sample Name | B75: Gravel [%] | C75: Coarse Sand [%] | D75: Medium Sand [%] | E75: Fine Sand [%] | F75: Mud [%] | G75: TOT[%] | H75: Folk Classification | I75: Between Classifications
A76: ='1727'!A20 -> B11_19
B77: 94 | C77: 3 | D77: 2 | E77: 1 | F77: 0 | G77: =SUM(B77:F77) -> 100 | H77: =IF(G77<>100,"",IF(B77>80,"Gravel",IF(AND(B77>30,(F77>=C77+D77+E77)),"Muddy Gravel",IF(AND(B77>30,((F77*9)>=C77+D77+E77)),"Muddy Sandy Gravel",IF(B77>30,"Sandy Gravel",IF(AND(B77>5,F77>=C77+D77+E77),"Gravelly Mud",IF(AND(B77>5,F77*9 >= C77+D77+E77),"Gravelly Muddy Sand",IF(B77>5,"Gravelly Sand",IF(F77/9>=C77+D77+E77,"Mud",IF(F77>=C77+D77+E77,"Sandy Mud",IF(F77*9 >=C77+D77+E77,"Muddy Sand","Sand"))))))))))) -> Gravel | I77: =IF(G77<>100,"",IF(B77=80,"Yes",IF(B77=30,"Yes",IF(B77=5,"Yes",IF(AND(B77<80,F77=C77+D77+E77),"Yes",IF(AND(B77<5,F77*9=C77+D77+E77),"Yes",IF(AND(B77<80,F77/9=C77+D77+E77),"Yes","No"))))))) -> No
A79: Sample Name | B79: Gravel [%] | C79: Coarse Sand [%] | D79: Medium Sand [%] | E79: Fine Sand [%] | F79: Mud [%] | G79: TOT[%] | H79: Folk Classification | I79: Between Classifications
A80: ='1727'!A21 -> B11_20
B81: 0 | C81: 5 | D81: 85 | E81: 10 | F81: 0 | G81: =SUM(B81:F81) -> 100 | H81: =IF(G81<>100,"",IF(B81>80,"Gravel",IF(AND(B81>30,(F81>=C81+D81+E81)),"Muddy Gravel",IF(AND(B81>30,((F81*9)>=C81+D81+E81)),"Muddy Sandy Gravel",IF(B81>30,"Sandy Gravel",IF(AND(B81>5,F81>=C81+D81+E81),"Gravelly Mud",IF(AND(B81>5,F81*9 >= C81+D81+E81),"Gravelly Muddy Sand",IF(B81>5,"Gravelly Sand",IF(F81/9>=C81+D81+E81,"Mud",IF(F81>=C81+D81+E81,"Sandy Mud",IF(F81*9 >=C81+D81+E81,"Muddy Sand","Sand"))))))))))) -> Sand | I81: =IF(G81<>100,"",IF(B81=80,"Yes",IF(B81=30,"Yes",IF(B81=5,"Yes",IF(AND(B81<80,F81=C81+D81+E81),"Yes",IF(AND(B81<5,F81*9=C81+D81+E81),"Yes",IF(AND(B81<80,F81/9=C81+D81+E81),"Yes","No"))))))) -> No
A83: Sample Name | B83: Gravel [%] | C83: Coarse Sand [%] | D83: Medium Sand [%] | E83: Fine Sand [%] | F83: Mud [%] | G83: TOT[%] | H83: Folk Classification | I83: Between Classifications
A84: ='1727'!A22 -> B12_21
B85: 20 | C85: 15 | D85: 60 | E85: 5 | F85: 0 | G85: =SUM(B85:F85) -> 100 | H85: =IF(G85<>100,"",IF(B85>80,"Gravel",IF(AND(B85>30,(F85>=C85+D85+E85)),"Muddy Gravel",IF(AND(B85>30,((F85*9)>=C85+D85+E85)),"Muddy Sandy Gravel",IF(B85>30,"Sandy Gravel",IF(AND(B85>5,F85>=C85+D85+E85),"Gravelly Mud",IF(AND(B85>5,F85*9 >= C85+D85+E85),"Gravelly Muddy Sand",IF(B85>5,"Gravelly Sand",IF(F85/9>=C85+D85+E85,"Mud",IF(F85>=C85+D85+E85,"Sandy Mud",IF(F85*9 >=C85+D85+E85,"Muddy Sand","Sand"))))))))))) -> Gravelly Sand | I85: =IF(G85<>100,"",IF(B85=80,"Yes",IF(B85=30,"Yes",IF(B85=5,"Yes",IF(AND(B85<80,F85=C85+D85+E85),"Yes",IF(AND(B85<5,F85*9=C85+D85+E85),"Yes",IF(AND(B85<80,F85/9=C85+D85+E85),"Yes","No"))))))) -> No
A87: Sample Name | B87: Gravel [%] | C87: Coarse Sand [%] | D87: Medium Sand [%] | E87: Fine Sand [%] | F87: Mud [%] | G87: TOT[%] | H87: Folk Classification | I87: Between Classifications
A88: ='1727'!A23 -> B13_22
B89: 90 | C89: 5 | D89: 3 | E89: 2 | F89: 0 | G89: =SUM(B89:F89) -> 100 | H89: =IF(G89<>100,"",IF(B89>80,"Gravel",IF(AND(B89>30,(F89>=C89+D89+E89)),"Muddy Gravel",IF(AND(B89>30,((F89*9)>=C89+D89+E89)),"Muddy Sandy Gravel",IF(B89>30,"Sandy Gravel",IF(AND(B89>5,F89>=C89+D89+E89),"Gravelly Mud",IF(AND(B89>5,F89*9 >= C89+D89+E89),"Gravelly Muddy Sand",IF(B89>5,"Gravelly Sand",IF(F89/9>=C89+D89+E89,"Mud",IF(F89>=C89+D89+E89,"Sandy Mud",IF(F89*9 >=C89+D89+E89,"Muddy Sand","Sand"))))))))))) -> Gravel | I89: =IF(G89<>100,"",IF(B89=80,"Yes",IF(B89=30,"Yes",IF(B89=5,"Yes",IF(AND(B89<80,F89=C89+D89+E89),"Yes",IF(AND(B89<5,F89*9=C89+D89+E89),"Yes",IF(AND(B89<80,F89/9=C89+D89+E89),"Yes","No"))))))) -> No
A91: Sample Name | B91: Gravel [%] | C91: Coarse Sand [%] | D91: Medium Sand [%] | E91: Fine Sand [%] | F91: Mud [%] | G91: TOT[%] | H91: Folk Classification | I91: Between Classifications
A92: ='1727'!A24 -> B13_23
B93: 90 | C93: 5 | D93: 3 | E93: 2 | F93: 0 | G93: =SUM(B93:F93) -> 100 | H93: =IF(G93<>100,"",IF(B93>80,"Gravel",IF(AND(B93>30,(F93>=C93+D93+E93)),"Muddy Gravel",IF(AND(B93>30,((F93*9)>=C93+D93+E93)),"Muddy Sandy Gravel",IF(B93>30,"Sandy Gravel",IF(AND(B93>5,F93>=C93+D93+E93),"Gravelly Mud",IF(AND(B93>5,F93*9 >= C93+D93+E93),"Gravelly Muddy Sand",IF(B93>5,"Gravelly Sand",IF(F93/9>=C93+D93+E93,"Mud",IF(F93>=C93+D93+E93,"Sandy Mud",IF(F93*9 >=C93+D93+E93,"Muddy Sand","Sand"))))))))))) -> Gravel | I93: =IF(G93<>100,"",IF(B93=80,"Yes",IF(B93=30,"Yes",IF(B93=5,"Yes",IF(AND(B93<80,F93=C93+D93+E93),"Yes",IF(AND(B93<5,F93*9=C93+D93+E93),"Yes",IF(AND(B93<80,F93/9=C93+D93+E93),"Yes","No"))))))) -> No
A95: Sample Name | B95: Gravel [%] | C95: Coarse Sand [%] | D95: Medium Sand [%] | E95: Fine Sand [%] | F95: Mud [%] | G95: TOT[%] | H95: Folk Classification | I95: Between Classifications
A96: ='1727'!A25 -> B14_24
B97: 0 | C97: 10 | D97: 55 | E97: 35 | F97: 0 | G97: =SUM(B97:F97) -> 100 | H97: =IF(G97<>100,"",IF(B97>80,"Gravel",IF(AND(B97>30,(F97>=C97+D97+E97)),"Muddy Gravel",IF(AND(B97>30,((F97*9)>=C97+D97+E97)),"Muddy Sandy Gravel",IF(B97>30,"Sandy Gravel",IF(AND(B97>5,F97>=C97+D97+E97),"Gravelly Mud",IF(AND(B97>5,F97*9 >= C97+D97+E97),"Gravelly Muddy Sand",IF(B97>5,"Gravelly Sand",IF(F97/9>=C97+D97+E97,"Mud",IF(F97>=C97+D97+E97,"Sandy Mud",IF(F97*9 >=C97+D97+E97,"Muddy Sand","Sand"))))))))))) -> Sand | I97: =IF(G97<>100,"",IF(B97=80,"Yes",IF(B97=30,"Yes",IF(B97=5,"Yes",IF(AND(B97<80,F97=C97+D97+E97),"Yes",IF(AND(B97<5,F97*9=C97+D97+E97),"Yes",IF(AND(B97<80,F97/9=C97+D97+E97),"Yes","No"))))))) -> No
A99: Sample Name | B99: Gravel [%] | C99: Coarse Sand [%] | D99: Medium Sand [%] | E99: Fine Sand [%] | F99: Mud [%] | G99: TOT[%] | H99: Folk Classification | I99: Between Classifications
A100: ='1727'!A26 -> B14_25
B101: 90 | C101: 5 | D101: 3 | E101: 2 | F101: 0 | G101: =SUM(B101:F101) -> 100 | H101: =IF(G101<>100,"",IF(B101>80,"Gravel",IF(AND(B101>30,(F101>=C101+D101+E101)),"Muddy Gravel",IF(AND(B101>30,((F101*9)>=C101+D101+E101)),"Muddy Sandy Gravel",IF(B101>30,"Sandy Gravel",IF(AND(B101>5,F101>=C101+D101+E101),"Gravelly Mud",IF(AND(B101>5,F101*9 >= C101+D101+E101),"Gravelly Muddy Sand",IF(B101>5,"Gravelly Sand",IF(F101/9>=C101+D101+E101,"Mud",IF(F101>=C101+D101+E101,"Sandy Mud",IF(F101*9 >=C101+D101+E101,"Muddy Sand","Sand"))))))))))) -> Gravel | I101: =IF(G101<>100,"",IF(B101=80,"Yes",IF(B101=30,"Yes",IF(B101=5,"Yes",IF(AND(B101<80,F101=C101+D101+E101),"Yes",IF(AND(B101<5,F101*9=C101+D101+E101),"Yes",IF(AND(B101<80,F101/9=C101+D101+E101),"Yes","No"))))))) -> No
A103: Sample Name | B103: Gravel [%] | C103: Coarse Sand [%] | D103: Medium Sand [%] | E103: Fine Sand [%] | F103: Mud [%] | G103: TOT[%] | H103: Folk Classification | I103: Between Classifications
A104: ='1727'!A27 -> B14_26
B105: 85 | C105: 10 | D105: 3 | E105: 2 | F105: 0 | G105: =SUM(B105:F105) -> 100 | H105: =IF(G105<>100,"",IF(B105>80,"Gravel",IF(AND(B105>30,(F105>=C105+D105+E105)),"Muddy Gravel",IF(AND(B105>30,((F105*9)>=C105+D105+E105)),"Muddy Sandy Gravel",IF(B105>30,"Sandy Gravel",IF(AND(B105>5,F105>=C105+D105+E105),"Gravelly Mud",IF(AND(B105>5,F105*9 >= C105+D105+E105),"Gravelly Muddy Sand",IF(B105>5,"Gravelly Sand",IF(F105/9>=C105+D105+E105,"Mud",IF(F105>=C105+D105+E105,"Sandy Mud",IF(F105*9 >=C105+D105+E105,"Muddy Sand","Sand"))))))))))) -> Gravel | I105: =IF(G105<>100,"",IF(B105=80,"Yes",IF(B105=30,"Yes",IF(B105=5,"Yes",IF(AND(B105<80,F105=C105+D105+E105),"Yes",IF(AND(B105<5,F105*9=C105+D105+E105),"Yes",IF(AND(B105<80,F105/9=C105+D105+E105),"Yes","No"))))))) -> No
A107: Sample Name | B107: Gravel [%] | C107: Coarse Sand [%] | D107: Medium Sand [%] | E107: Fine Sand [%] | F107: Mud [%] | G107: TOT[%] | H107: Folk Classification | I107: Between Classifications
A108: ='1727'!A49 -> 0
B109: 0 | C109: 0 | D109: 0 | E109: 0 | F109: 0 | G109: =SUM(B109:F109) -> 0 | H109: =IF(G109<>100,"",IF(B109>80,"Gravel",IF(AND(B109>30,(F109>=C109+D109+E109)),"Muddy Gravel",IF(AND(B109>30,((F109*9)>=C109+D109+E109)),"Muddy Sandy Gravel",IF(B109>30,"Sandy Gravel",IF(AND(B109>5,F109>=C109+D109+E109),"Gravelly Mud",IF(AND(B109>5,F109*9 >= C109+D109+E109),"Gravelly Muddy Sand",IF(B109>5,"Gravelly Sand",IF(F109/9>=C109+D109+E109,"Mud",IF(F109>=C109+D109+E109,"Sandy Mud",IF(F109*9 >=C109+D109+E109,"Muddy Sand","Sand"))))))))))) | I109: =IF(G109<>100,"",IF(B109=80,"Yes",IF(B109=30,"Yes",IF(B109=5,"Yes",IF(AND(B109<80,F109=C109+D109+E109),"Yes",IF(AND(B109<5,F109*9=C109+D109+E109),"Yes",IF(AND(B109<80,F109/9=C109+D109+E109),"Yes","No")))))))
A111: Sample Name | B111: Gravel [%] | C111: Coarse Sand [%] | D111: Medium Sand [%] | E111: Fine Sand [%] | F111: Mud [%] | G111: TOT[%] | H111: Folk Classification | I111: Between Classifications
A112: ='1727'!A53 -> 0
B113: 0 | C113: 0 | D113: 0 | E113: 0 | F113: 0 | G113: =SUM(B113:F113) -> 0 | H113: =IF(G113<>100,"",IF(B113>80,"Gravel",IF(AND(B113>30,(F113>=C113+D113+E113)),"Muddy Gravel",IF(AND(B113>30,((F113*9)>=C113+D113+E113)),"Muddy Sandy Gravel",IF(B113>30,"Sandy Gravel",IF(AND(B113>5,F113>=C113+D113+E113),"Gravelly Mud",IF(AND(B113>5,F113*9 >= C113+D113+E113),"Gravelly Muddy Sand",IF(B113>5,"Gravelly Sand",IF(F113/9>=C113+D113+E113,"Mud",IF(F113>=C113+D113+E113,"Sandy Mud",IF(F113*9 >=C113+D113+E113,"Muddy Sand","Sand"))))))))))) | I113: =IF(G113<>100,"",IF(B113=80,"Yes",IF(B113=30,"Yes",IF(B113=5,"Yes",IF(AND(B113<80,F113=C113+D113+E113),"Yes",IF(AND(B113<5,F113*9=C113+D113+E113),"Yes",IF(AND(B113<80,F113/9=C113+D113+E113),"Yes","No")))))))
A115: Sample Name | B115: Gravel [%] | C115: Coarse Sand [%] | D115: Medium Sand [%] | E115: Fine Sand [%] | F115: Mud [%] | G115: TOT[%] | H115: Folk Classification | I115: Between Classifications
A116: ='1727'!A57 -> 0
B117: 0 | C117: 0 | D117: 0 | E117: 0 | F117: 0 | G117: =SUM(B117:F117) -> 0 | H117: =IF(G117<>100,"",IF(B117>80,"Gravel",IF(AND(B117>30,(F117>=C117+D117+E117)),"Muddy Gravel",IF(AND(B117>30,((F117*9)>=C117+D117+E117)),"Muddy Sandy Gravel",IF(B117>30,"Sandy Gravel",IF(AND(B117>5,F117>=C117+D117+E117),"Gravelly Mud",IF(AND(B117>5,F117*9 >= C117+D117+E117),"Gravelly Muddy Sand",IF(B117>5,"Gravelly Sand",IF(F117/9>=C117+D117+E117,"Mud",IF(F117>=C117+D117+E117,"Sandy Mud",IF(F117*9 >=C117+D117+E117,"Muddy Sand","Sand"))))))))))) | I117: =IF(G117<>100,"",IF(B117=80,"Yes",IF(B117=30,"Yes",IF(B117=5,"Yes",IF(AND(B117<80,F117=C117+D117+E117),"Yes",IF(AND(B117<5,F117*9=C117+D117+E117),"Yes",IF(AND(B117<80,F117/9=C117+D117+E117),"Yes","No")))))))
A119: Sample Name | B119: Gravel [%] | C119: Coarse Sand [%] | D119: Medium Sand [%] | E119: Fine Sand [%] | F119: Mud [%] | G119: TOT[%] | H119: Folk Classification | I119: Between Classifications
A120: ='1727'!A61 -> 0
B121: 0 | C121: 0 | D121: 0 | E121: 0 | F121: 0 | G121: =SUM(B121:F121) -> 0 | H121: =IF(G121<>100,"",IF(B121>80,"Gravel",IF(AND(B121>30,(F121>=C121+D121+E121)),"Muddy Gravel",IF(AND(B121>30,((F121*9)>=C121+D121+E121)),"Muddy Sandy Gravel",IF(B121>30,"Sandy Gravel",IF(AND(B121>5,F121>=C121+D121+E121),"Gravelly Mud",IF(AND(B121>5,F121*9 >= C121+D121+E121),"Gravelly Muddy Sand",IF(B121>5,"Gravelly Sand",IF(F121/9>=C121+D121+E121,"Mud",IF(F121>=C121+D121+E121,"Sandy Mud",IF(F121*9 >=C121+D121+E121,"Muddy Sand","Sand"))))))))))) | I121: =IF(G121<>100,"",IF(B121=80,"Yes",IF(B121=30,"Yes",IF(B121=5,"Yes",IF(AND(B121<80,F121=C121+D121+E121),"Yes",IF(AND(B121<5,F121*9=C121+D121+E121),"Yes",IF(AND(B121<80,F121/9=C121+D121+E121),"Yes","No")))))))
A123: Sample Name | B123: Gravel [%] | C123: Coarse Sand [%] | D123: Medium Sand [%] | E123: Fine Sand [%] | F123: Mud [%] | G123: TOT[%] | H123: Folk Classification | I123: Between Classifications
A124: ='1727'!A65 -> 0
B125: 0 | C125: 0 | D125: 0 | E125: 0 | F125: 0 | G125: =SUM(B125:F125) -> 0 | H125: =IF(G125<>100,"",IF(B125>80,"Gravel",IF(AND(B125>30,(F125>=C125+D125+E125)),"Muddy Gravel",IF(AND(B125>30,((F125*9)>=C125+D125+E125)),"Muddy Sandy Gravel",IF(B125>30,"Sandy Gravel",IF(AND(B125>5,F125>=C125+D125+E125),"Gravelly Mud",IF(AND(B125>5,F125*9 >= C125+D125+E125),"Gravelly Muddy Sand",IF(B125>5,"Gravelly Sand",IF(F125/9>=C125+D125+E125,"Mud",IF(F125>=C125+D125+E125,"Sandy Mud",IF(F125*9 >=C125+D125+E125,"Muddy Sand","Sand"))))))))))) | I125: =IF(G125<>100,"",IF(B125=80,"Yes",IF(B125=30,"Yes",IF(B125=5,"Yes",IF(AND(B125<80,F125=C125+D125+E125),"Yes",IF(AND(B125<5,F125*9=C125+D125+E125),"Yes",IF(AND(B125<80,F125/9=C125+D125+E125),"Yes","No")))))))

Sheet Position conv.
B2: ID | C2: deg | D2: min | E2: C.dir | F2: deg.dec | G2: INPUT H575
B3: 3 | C3: 56 | D3: 26.95 | E3: N | F3: =D3/60 -> 0.44916667 | G3: =(F3+C3)*IF(E3="W",-1,1) -> 56.449167 | H3: N
C4: 2 | D4: 7.59 | E4: W | F4: =D4/60 -> 0.1265 | G4: =(F4+C4)*IF(E4="W",-1,1) -> -2.1265 | H4: E
B6: 4 | C6: 54 | D6: 32.14 | E6: N | F6: =D6/60 -> 0.53566667 | G6: =(F6+C6)*IF(E6="W",-1,1) -> 54.535667 | H6: N
C7: 0 | D7: 43.77 | E7: W | F7: =D7/60 -> 0.7295 | G7: =(F7+C7)*IF(E7="W",-1,1) -> -0.7295 | H7: E
B9: 5 | C9: 54 | D9: 32.8 | E9: N | F9: =D9/60 -> 0.54666667 | G9: =(F9+C9)*IF(E9="W",-1,1) -> 54.546667 | H9: N
C10: 0 | D10: 44.06 | E10: W | F10: =D10/60 -> 0.73433333 | G10: =(F10+C10)*IF(E10="W",-1,1) -> -0.73433333 | H10: E

Sheet Information
