Workbook

Sheet HI1681
A1: Sample Number | B1: Date | C1: Time GMT | D1: Latitude DD.DDDD | E1: Longitude DD.DDDD | F1: Nautical Classification | G1: Folk Classification | H1: Seabed Depth mCD | I1: Sampling Method | J1: Position Determination | K1: Position Uncertainty | L1: Number of Attempts | M1: Vessel | N1: CHP Contractor | O1: HI Number | P1: HI Name | Q1: Remarks
A2: A01 | B2: 20/03/2023 | C2: 0.46666667 | D2: 55.52822 | E2: -5.11362 | F2: M, fS mS, cS, Sh | G2: Sandy Mud | H2: 35 | I2: 3 | J2: G+ | K2: 2 | L2: 2 | M2: Northern Wind | N2: MCA | O2: 1681 | P2: HI1681 | Q2: Sand, Mud, Shells
A3: A02 | B3: 20/03/2023 | C3: 0.45277778 | D3: 55.54285 | E3: -5.0815 | F3: Sh, cS, mS, fS | G3: Sand | H3: 15 | I3: 3 | J3: G+ | K3: 2 | L3: 3 | M3: Northern Wind | N3: MCA | O3: 1681 | P3: HI1681 | Q3: Sand, Shells
A4: B03 | B4: 20/03/2023 | C4: 0.48472222 | D4: 55.50642 | E4: -5.06398 | F4: Sh, cS, mS,fS, G, M | G4: Gravelly Sand | H4: 15 | I4: 3 | J4: G+ | K4: 2 | L4: 4 | M4: Northern Wind | N4: MCA | O4: 1681 | P4: HI1681 | Q4: Shells, Sand, Gravel
A5: B04 | B5: 20/03/2023 | C5: 0.48668981 | D5: 55.4985 | E5: -5.07582 | F5: fS, M, mS, cS, G | G5: Muddy Sand | H5: 33 | I5: 3 | J5: G+ | K5: 2 | L5: 2 | M5: Northern Wind | N5: MCA | O5: 1681 | P5: HI1681 | Q5: Sand, Gravel
A6: B05 | B6: 20/03/2023 | C6: 0.5125 | D6: 55.44488 | E6: -5.08863 | F6: Sh, G | G6: Gravel | H6: 16 | I6: 3 | J6: G+ | K6: 2 | L6: 3 | M6: Northern Wind | N6: MCA | O6: 1681 | P6: HI1681 | Q6: Shells, Gravel
A7: C06 | B7: 20/03/2023 | C7: 0.73680556 | D7: 55.54058 | E7: -5.02652 | F7: n/a | G7: Rock/Sediment Absent | H7: 65 | I7: 3 | J7: G+ | K7: 2 | L7: 3 | M7: Northern Wind | N7: MCA | O7: 1681 | P7: HI1681 | Q7: no sediment
A8: C07 | B8: 20/03/2023 | C8: 0.75208333 | D8: 55.5639 | E8: -5.02485 | F8: n/a | G8: Rock/Sediment Absent | H8: 98 | I8: 3 | J8: G+ | K8: 2 | L8: 3 | M8: Northern Wind | N8: MCA | O8: 1681 | P8: HI1681 | Q8: no sediment
A9: C08 | B9: 20/03/2023 | C9: 0.76875 | D9: 55.55128 | E9: -4.9492 | F9: n/a | G9: Rock/Sediment Absent | H9: 73 | I9: 3 | J9: G+ | K9: 2 | L9: 3 | M9: Northern Wind | N9: MCA | O9: 1681 | P9: HI1681 | Q9: no sediment
A10: D09 | B10: 19/03/2023 | C10: 0.40972222 | D10: 55.56173 | E10: -4.8471 | F10: n/a | G10: Rock/Sediment Absent | H10: 35 | I10: 3 | J10: G+ | K10: 2 | L10: 4 | M10: Northern Wind | N10: MCA | O10: 1681 | P10: HI1681 | Q10: no sediment
A11: D10 | B11: 19/03/2023 | C11: 0.42013889 | D11: 55.54143 | E11: -4.82338 | F11: mS, fS, M, Sh | G11: Sand | H11: 45 | I11: 3 | J11: G+ | K11: 2 | L11: 1 | M11: Northern Wind | N11: MCA | O11: 1681 | P11: HI1681 | Q11: Sand, Mud, Shells
A12: E29 | B12: 20/03/2023 | C12: 0.70069444 | D12: 55.50613 | E12: -5.0293 | F12: n/a | G12: Rock/Sediment Absent | H12: 83 | I12: 3 | J12: G+ | K12: 2 | L12: 3 | M12: Northern Wind | N12: MCA | O12: 1681 | P12: HI1681 | Q12: no sediment
A13: E30 | B13: 20/03/2023 | C13: 0.71527778 | D13: 55.51912 | E13: -4.94975 | F13: n/a | G13: Rock/Sediment Absent | H13: 48 | I13: 3 | J13: G+ | K13: 2 | L13: 3 | M13: Northern Wind | N13: MCA | O13: 1681 | P13: HI1681 | Q13: no sediment
... A34: N28 | B34: 19/03/2023 | C34: 0.62569444 | D34: 55.34157 | E34: -4.9294 | F34: n/a | G34: Rock/Sediment Absent | H34: 60 | I34: 3 | J34: G+ | K34: 2 | L34: 4 | M34: Northern Wind | N34: MCA | O34: 1681 | P34: HI1681 | Q34: no sediment

Sheet Fraction tool
A3: Sample Name | B3: Gravel [%] | C3: Coarse Sand [%] | D3: Medium Sand [%] | E3: Fine Sand [%] | F3: Mud [%] | G3: TOT[%] | H3: Folk Classification | I3: Between Classifications
A4: ='HI1681'!A2 -> A01
B5: 0 | C5: 0 | D5: 0 | E5: 0 | F5: 0 | G5: =SUM(B5:F5) -> 0 | H5: =IF(G5<>100,"",IF(B5>80,"Gravel",IF(AND(B5>30,(F5>=C5+D5+E5)),"Muddy Gravel",IF(AND(B5>30,((F5*9)>=C5+D5+E5)),"Muddy Sandy Gravel",IF(B5>30,"Sandy Gravel",IF(AND(B5>5,F5>=C5+D5+E5),"Gravelly Mud",IF(AND(B5>5,F5*9 >= C5+D5+E5),"Gravelly Muddy Sand",IF(B5>5,"Gravelly Sand",IF(F5/9>=C5+D5+E5,"Mud",IF(F5>=C5+D5+E5,"Sandy Mud",IF(F5*9 >=C5+D5+E5,"Muddy Sand","Sand"))))))))))) | I5: =IF(G5<>100,"",IF(B5=80,"Yes",IF(B5=30,"Yes",IF(B5=5,"Yes",IF(AND(B5<80,F5=C5+D5+E5),"Yes",IF(AND(B5<5,F5*9=C5+D5+E5),"Yes",IF(AND(B5<80,F5/9=C5+D5+E5),"Yes","No")))))))
A7: Sample Name | B7: Gravel [%] | C7: Coarse Sand [%] | D7: Medium Sand [%] | E7: Fine Sand [%] | F7: Mud [%] | G7: TOT[%] | H7: Folk Classification | I7: Between Classifications
A8: ='HI1681'!A3 -> A02
B9: 1 | C9: 5 | D9: 50 | E9: 40 | F9: 4 | G9: =SUM(B9:F9) -> 100 | H9: =IF(G9<>100,"",IF(B9>80,"Gravel",IF(AND(B9>30,(F9>=C9+D9+E9)),"Muddy Gravel",IF(AND(B9>30,((F9*9)>=C9+D9+E9)),"Muddy Sandy Gravel",IF(B9>30,"Sandy Gravel",IF(AND(B9>5,F9>=C9+D9+E9),"Gravelly Mud",IF(AND(B9>5,F9*9 >= C9+D9+E9),"Gravelly Muddy Sand",IF(B9>5,"Gravelly Sand",IF(F9/9>=C9+D9+E9,"Mud",IF(F9>=C9+D9+E9,"Sandy Mud",IF(F9*9 >=C9+D9+E9,"Muddy Sand","Sand"))))))))))) -> Sand | I9: =IF(G9<>100,"",IF(B9=80,"Yes",IF(B9=30,"Yes",IF(B9=5,"Yes",IF(AND(B9<80,F9=C9+D9+E9),"Yes",IF(AND(B9<5,F9*9=C9+D9+E9),"Yes",IF(AND(B9<80,F9/9=C9+D9+E9),"Yes","No"))))))) -> No
A11: Sample Name | B11: Gravel [%] | C11: Coarse Sand [%] | D11: Medium Sand [%] | E11: Fine Sand [%] | F11: Mud [%] | G11: TOT[%] | H11: Folk Classification | I11: Between Classifications
A12: ='HI1681'!A4 -> B03
B13: 0 | C13: 0 | D13: 0 | E13: 2 | F13: 98 | G13: =SUM(B13:F13) -> 100 | H13: =IF(G13<>100,"",IF(B13>80,"Gravel",IF(AND(B13>30,(F13>=C13+D13+E13)),"Muddy Gravel",IF(AND(B13>30,((F13*9)>=C13+D13+E13)),"Muddy Sandy Gravel",IF(B13>30,"Sandy Gravel",IF(AND(B13>5,F13>=C13+D13+E13),"Gravelly Mud",IF(AND(B13>5,F13*9 >= C13+D13+E13),"Gravelly Muddy Sand",IF(B13>5,"Gravelly Sand",IF(F13/9>=C13+D13+E13,"Mud",IF(F13>=C13+D13+E13,"Sandy Mud",IF(F13*9 >=C13+D13+E13,"Muddy Sand","Sand"))))))))))) -> Mud | I13: =IF(G13<>100,"",IF(B13=80,"Yes",IF(B13=30,"Yes",IF(B13=5,"Yes",IF(AND(B13<80,F13=C13+D13+E13),"Yes",IF(AND(B13<5,F13*9=C13+D13+E13),"Yes",IF(AND(B13<80,F13/9=C13+D13+E13),"Yes","No"))))))) -> No
A15: Sample Name | B15: Gravel [%] | C15: Coarse Sand [%] | D15: Medium Sand [%] | E15: Fine Sand [%] | F15: Mud [%] | G15: TOT[%] | H15: Folk Classification | I15: Between Classifications
A16: ='HI1681'!A5 -> B04
B17: 0 | C17: 0 | D17: 0 | E17: 2 | F17: 98 | G17: =SUM(B17:F17) -> 100 | H17: =IF(G17<>100,"",IF(B17>80,"Gravel",IF(AND(B17>30,(F17>=C17+D17+E17)),"Muddy Gravel",IF(AND(B17>30,((F17*9)>=C17+D17+E17)),"Muddy Sandy Gravel",IF(B17>30,"Sandy Gravel",IF(AND(B17>5,F17>=C17+D17+E17),"Gravelly Mud",IF(AND(B17>5,F17*9 >= C17+D17+E17),"Gravelly Muddy Sand",IF(B17>5,"Gravelly Sand",IF(F17/9>=C17+D17+E17,"Mud",IF(F17>=C17+D17+E17,"Sandy Mud",IF(F17*9 >=C17+D17+E17,"Muddy Sand","Sand"))))))))))) -> Mud | I17: =IF(G17<>100,"",IF(B17=80,"Yes",IF(B17=30,"Yes",IF(B17=5,"Yes",IF(AND(B17<80,F17=C17+D17+E17),"Yes",IF(AND(B17<5,F17*9=C17+D17+E17),"Yes",IF(AND(B17<80,F17/9=C17+D17+E17),"Yes","No"))))))) -> No
A19: Sample Name | B19: Gravel [%] | C19: Coarse Sand [%] | D19: Medium Sand [%] | E19: Fine Sand [%] | F19: Mud [%] | G19: TOT[%] | H19: Folk Classification | I19: Between Classifications
A20: ='HI1681'!A6 -> B05
B21: 0 | C21: 0 | D21: 0 | E21: 0 | F21: 0 | G21: =SUM(B21:F21) -> 0 | H21: =IF(G21<>100,"",IF(B21>80,"Gravel",IF(AND(B21>30,(F21>=C21+D21+E21)),"Muddy Gravel",IF(AND(B21>30,((F21*9)>=C21+D21+E21)),"Muddy Sandy Gravel",IF(B21>30,"Sandy Gravel",IF(AND(B21>5,F21>=C21+D21+E21),"Gravelly Mud",IF(AND(B21>5,F21*9 >= C21+D21+E21),"Gravelly Muddy Sand",IF(B21>5,"Gravelly Sand",IF(F21/9>=C21+D21+E21,"Mud",IF(F21>=C21+D21+E21,"Sandy Mud",IF(F21*9 >=C21+D21+E21,"Muddy Sand","Sand"))))))))))) | I21: =IF(G21<>100,"",IF(B21=80,"Yes",IF(B21=30,"Yes",IF(B21=5,"Yes",IF(AND(B21<80,F21=C21+D21+E21),"Yes",IF(AND(B21<5,F21*9=C21+D21+E21),"Yes",IF(AND(B21<80,F21/9=C21+D21+E21),"Yes","No")))))))
A23: Sample Name | B23: Gravel [%] | C23: Coarse Sand [%] | D23: Medium Sand [%] | E23: Fine Sand [%] | F23: Mud [%] | G23: TOT[%] | H23: Folk Classification | I23: Between Classifications
A24: ='HI1681'!A7 -> C06
B25: 0 | C25: 0 | D25: 0 | E25: 0 | F25: 0 | G25: =SUM(B25:F25) -> 0 | H25: =IF(G25<>100,"",IF(B25>80,"Gravel",IF(AND(B25>30,(F25>=C25+D25+E25)),"Muddy Gravel",IF(AND(B25>30,((F25*9)>=C25+D25+E25)),"Muddy Sandy Gravel",IF(B25>30,"Sandy Gravel",IF(AND(B25>5,F25>=C25+D25+E25),"Gravelly Mud",IF(AND(B25>5,F25*9 >= C25+D25+E25),"Gravelly Muddy Sand",IF(B25>5,"Gravelly Sand",IF(F25/9>=C25+D25+E25,"Mud",IF(F25>=C25+D25+E25,"Sandy Mud",IF(F25*9 >=C25+D25+E25,"Muddy Sand","Sand"))))))))))) | I25: =IF(G25<>100,"",IF(B25=80,"Yes",IF(B25=30,"Yes",IF(B25=5,"Yes",IF(AND(B25<80,F25=C25+D25+E25),"Yes",IF(AND(B25<5,F25*9=C25+D25+E25),"Yes",IF(AND(B25<80,F25/9=C25+D25+E25),"Yes","No")))))))
A27: Sample Name | B27: Gravel [%] | C27: Coarse Sand [%] | D27: Medium Sand [%] | E27: Fine Sand [%] | F27: Mud [%] | G27: TOT[%] | H27: Folk Classification | I27: Between Classifications
A28: ='HI1681'!A8 -> C07
B29: 0 | C29: 0 | D29: 0 | E29: 0 | F29: 0 | G29: =SUM(B29:F29) -> 0 | H29: =IF(G29<>100,"",IF(B29>80,"Gravel",IF(AND(B29>30,(F29>=C29+D29+E29)),"Muddy Gravel",IF(AND(B29>30,((F29*9)>=C29+D29+E29)),"Muddy Sandy Gravel",IF(B29>30,"Sandy Gravel",IF(AND(B29>5,F29>=C29+D29+E29),"Gravelly Mud",IF(AND(B29>5,F29*9 >= C29+D29+E29),"Gravelly Muddy Sand",IF(B29>5,"Gravelly Sand",IF(F29/9>=C29+D29+E29,"Mud",IF(F29>=C29+D29+E29,"Sandy Mud",IF(F29*9 >=C29+D29+E29,"Muddy Sand","Sand"))))))))))) | I29: =IF(G29<>100,"",IF(B29=80,"Yes",IF(B29=30,"Yes",IF(B29=5,"Yes",IF(AND(B29<80,F29=C29+D29+E29),"Yes",IF(AND(B29<5,F29*9=C29+D29+E29),"Yes",IF(AND(B29<80,F29/9=C29+D29+E29),"Yes","No")))))))
A31: Sample Name | B31: Gravel [%] | C31: Coarse Sand [%] | D31: Medium Sand [%] | E31: Fine Sand [%] | F31: Mud [%] | G31: TOT[%] | H31: Folk Classification | I31: Between Classifications
A32: ='HI1681'!A9 -> C08
B33: 0 | C33: 0 | D33: 0 | E33: 0 | F33: 0 | G33: =SUM(B33:F33) -> 0 | H33: =IF(G33<>100,"",IF(B33>80,"Gravel",IF(AND(B33>30,(F33>=C33+D33+E33)),"Muddy Gravel",IF(AND(B33>30,((F33*9)>=C33+D33+E33)),"Muddy Sandy Gravel",IF(B33>30,"Sandy Gravel",IF(AND(B33>5,F33>=C33+D33+E33),"Gravelly Mud",IF(AND(B33>5,F33*9 >= C33+D33+E33),"Gravelly Muddy Sand",IF(B33>5,"Gravelly Sand",IF(F33/9>=C33+D33+E33,"Mud",IF(F33>=C33+D33+E33,"Sandy Mud",IF(F33*9 >=C33+D33+E33,"Muddy Sand","Sand"))))))))))) | I33: =IF(G33<>100,"",IF(B33=80,"Yes",IF(B33=30,"Yes",IF(B33=5,"Yes",IF(AND(B33<80,F33=C33+D33+E33),"Yes",IF(AND(B33<5,F33*9=C33+D33+E33),"Yes",IF(AND(B33<80,F33/9=C33+D33+E33),"Yes","No")))))))
J34: N28
A35: Sample Name | B35: Gravel [%] | C35: Coarse Sand [%] | D35: Medium Sand [%] | E35: Fine Sand [%] | F35: Mud [%] | G35: TOT[%] | H35: Folk Classification | I35: Between Classifications
A36: ='HI1681'!A10 -> D09
B37: 0 | C37: 0 | D37: 0 | E37: 0 | F37: 0 | G37: =SUM(B37:F37) -> 0 | H37: =IF(G37<>100,"",IF(B37>80,"Gravel",IF(AND(B37>30,(F37>=C37+D37+E37)),"Muddy Gravel",IF(AND(B37>30,((F37*9)>=C37+D37+E37)),"Muddy Sandy Gravel",IF(B37>30,"Sandy Gravel",IF(AND(B37>5,F37>=C37+D37+E37),"Gravelly Mud",IF(AND(B37>5,F37*9 >= C37+D37+E37),"Gravelly Muddy Sand",IF(B37>5,"Gravelly Sand",IF(F37/9>=C37+D37+E37,"Mud",IF(F37>=C37+D37+E37,"Sandy Mud",IF(F37*9 >=C37+D37+E37,"Muddy Sand","Sand"))))))))))) | I37: =IF(G37<>100,"",IF(B37=80,"Yes",IF(B37=30,"Yes",IF(B37=5,"Yes",IF(AND(B37<80,F37=C37+D37+E37),"Yes",IF(AND(B37<5,F37*9=C37+D37+E37),"Yes",IF(AND(B37<80,F37/9=C37+D37+E37),"Yes","No")))))))
A39: Sample Name | B39: Gravel [%] | C39: Coarse Sand [%] | D39: Medium Sand [%] | E39: Fine Sand [%] | F39: Mud [%] | G39: TOT[%] | H39: Folk Classification | I39: Between Classifications
A40: ='HI1681'!A11 -> D10
B41: 0 | C41: 0 | D41: 0 | E41: 0 | F41: 0 | G41: =SUM(B41:F41) -> 0 | H41: =IF(G41<>100,"",IF(B41>80,"Gravel",IF(AND(B41>30,(F41>=C41+D41+E41)),"Muddy Gravel",IF(AND(B41>30,((F41*9)>=C41+D41+E41)),"Muddy Sandy Gravel",IF(B41>30,"Sandy Gravel",IF(AND(B41>5,F41>=C41+D41+E41),"Gravelly Mud",IF(AND(B41>5,F41*9 >= C41+D41+E41),"Gravelly Muddy Sand",IF(B41>5,"Gravelly Sand",IF(F41/9>=C41+D41+E41,"Mud",IF(F41>=C41+D41+E41,"Sandy Mud",IF(F41*9 >=C41+D41+E41,"Muddy Sand","Sand"))))))))))) | I41: =IF(G41<>100,"",IF(B41=80,"Yes",IF(B41=30,"Yes",IF(B41=5,"Yes",IF(AND(B41<80,F41=C41+D41+E41),"Yes",IF(AND(B41<5,F41*9=C41+D41+E41),"Yes",IF(AND(B41<80,F41/9=C41+D41+E41),"Yes","No")))))))
A43: Sample Name | B43: Gravel [%] | C43: Coarse Sand [%] | D43: Medium Sand [%] | E43: Fine Sand [%] | F43: Mud [%] | G43: TOT[%] | H43: Folk Classification | I43: Between Classifications
A44: ='HI1681'!A12 -> E29
B45: 0 | C45: 0 | D45: 0 | E45: 0 | F45: 0 | G45: =SUM(B45:F45) -> 0 | H45: =IF(G45<>100,"",IF(B45>80,"Gravel",IF(AND(B45>30,(F45>=C45+D45+E45)),"Muddy Gravel",IF(AND(B45>30,((F45*9)>=C45+D45+E45)),"Muddy Sandy Gravel",IF(B45>30,"Sandy Gravel",IF(AND(B45>5,F45>=C45+D45+E45),"Gravelly Mud",IF(AND(B45>5,F45*9 >= C45+D45+E45),"Gravelly Muddy Sand",IF(B45>5,"Gravelly Sand",IF(F45/9>=C45+D45+E45,"Mud",IF(F45>=C45+D45+E45,"Sandy Mud",IF(F45*9 >=C45+D45+E45,"Muddy Sand","Sand"))))))))))) | I45: =IF(G45<>100,"",IF(B45=80,"Yes",IF(B45=30,"Yes",IF(B45=5,"Yes",IF(AND(B45<80,F45=C45+D45+E45),"Yes",IF(AND(B45<5,F45*9=C45+D45+E45),"Yes",IF(AND(B45<80,F45/9=C45+D45+E45),"Yes","No")))))))
A47: Sample Name | B47: Gravel [%] | C47: Coarse Sand [%] | D47: Medium Sand [%] | E47: Fine Sand [%] | F47: Mud [%] | G47: TOT[%] | H47: Folk Classification | I47: Between Classifications
A48: ='HI1681'!#REF! -> #REF!
B49: 5 | C49: 5 | D49: 5 | E49: 70 | F49: 15 | G49: =SUM(B49:F49) -> 100 | H49: =IF(G49<>100,"",IF(B49>80,"Gravel",IF(AND(B49>30,(F49>=C49+D49+E49)),"Muddy Gravel",IF(AND(B49>30,((F49*9)>=C49+D49+E49)),"Muddy Sandy Gravel",IF(B49>30,"Sandy Gravel",IF(AND(B49>5,F49>=C49+D49+E49),"Gravelly Mud",IF(AND(B49>5,F49*9 >= C49+D49+E49),"Gravelly Muddy Sand",IF(B49>5,"Gravelly Sand",IF(F49/9>=C49+D49+E49,"Mud",IF(F49>=C49+D49+E49,"Sandy Mud",IF(F49*9 >=C49+D49+E49,"Muddy Sand","Sand"))))))))))) -> Muddy Sand | I49: =IF(G49<>100,"",IF(B49=80,"Yes",IF(B49=30,"Yes",IF(B49=5,"Yes",IF(AND(B49<80,F49=C49+D49+E49),"Yes",IF(AND(B49<5,F49*9=C49+D49+E49),"Yes",IF(AND(B49<80,F49/9=C49+D49+E49),"Yes","No"))))))) -> Yes
A51: Sample Name | B51: Gravel [%] | C51: Coarse Sand [%] | D51: Medium Sand [%] | E51: Fine Sand [%] | F51: Mud [%] | G51: TOT[%] | H51: Folk Classification | I51: Between Classifications
A52: ='HI1681'!#REF! -> #REF!
B53: 100 | C53: 0 | D53: 0 | E53: 0 | F53: 0 | G53: =SUM(B53:F53) -> 100 | H53: =IF(G53<>100,"",IF(B53>80,"Gravel",IF(AND(B53>30,(F53>=C53+D53+E53)),"Muddy Gravel",IF(AND(B53>30,((F53*9)>=C53+D53+E53)),"Muddy Sandy Gravel",IF(B53>30,"Sandy Gravel",IF(AND(B53>5,F53>=C53+D53+E53),"Gravelly Mud",IF(AND(B53>5,F53*9 >= C53+D53+E53),"Gravelly Muddy Sand",IF(B53>5,"Gravelly Sand",IF(F53/9>=C53+D53+E53,"Mud",IF(F53>=C53+D53+E53,"Sandy Mud",IF(F53*9 >=C53+D53+E53,"Muddy Sand","Sand"))))))))))) -> Gravel | I53: =IF(G53<>100,"",IF(B53=80,"Yes",IF(B53=30,"Yes",IF(B53=5,"Yes",IF(AND(B53<80,F53=C53+D53+E53),"Yes",IF(AND(B53<5,F53*9=C53+D53+E53),"Yes",IF(AND(B53<80,F53/9=C53+D53+E53),"Yes","No"))))))) -> No
...

Sheet Position conv.
B2: ID | C2: deg | D2: min | E2: C.dir | F2: deg.dec | G2: INPUT H575
B3: 3 | C3: 51 | D3: 18 | E3: N | F3: =D3/60 -> 0.3 | G3: =(F3+C3)*IF(E3="W",-1,1) -> 51.3 | H3: N
C4: 4 | D4: 27 | E4: W | F4: =D4/60 -> 0.45 | G4: =(F4+C4)*IF(E4="W",-1,1) -> -4.45 | H4: E
B6: 4 | C6: 51 | D6: 32.14 | E6: N | F6: =D6/60 -> 0.53566667 | G6: =(F6+C6)*IF(E6="W",-1,1) -> 51.535667 | H6: N
C7: 0 | D7: 43.77 | E7: W | F7: =D7/60 -> 0.7295 | G7: =(F7+C7)*IF(E7="W",-1,1) -> -0.7295 | H7: E
B9: 5 | C9: 54 | D9: 32.8 | E9: N | F9: =D9/60 -> 0.54666667 | G9: =(F9+C9)*IF(E9="W",-1,1) -> 54.546667 | H9: N
C10: 0 | D10: 44.06 | E10: W | F10: =D10/60 -> 0.73433333 | G10: =(F10+C10)*IF(E10="W",-1,1) -> -0.73433333 | H10: E

Sheet Information
