Workbook

Sheet HI1860
A1: Sample Number | B1: Date | C1: Time GMT | D1: Latitude DD.DDDD | E1: Longitude DD.DDDD | F1: Nautical Classification | G1: Folk Classification | H1: Seabed Depth mCD | I1: Sampling Method | J1: Position Determination | K1: Position Uncertainty | L1: Number of Attempts | M1: Vessel | N1: CHP Contractor | O1: HI Number | P1: HI Name | Q1: Remarks
A2: HI1860_B01_001 | B2: 07/09/2024 | C2: 0.51597222 | D2: 52.3986 | E2: 1.733 | F2: fS,mS,cS,G,bkSh | G2: ='Fraction tool'!H5 -> Sand | H2: 6.6 | I2: 03 | J2: G+ | K2: 02 | L2: 2 | M2: Northern Wind | O2: 1860 | P2: East Anglia Pakefield Road | Q2: Light brown sand, broken shells, no smell
A3: HI1860_B02_002 | B3: 07/09/2024 | C3: 0.48402778 | D3: 52.4582 | E3: 1.764 | F3: cS,mS,G,fS,bkSh | G3: ='Fraction tool'!H9 -> Gravelly Sand | H3: 3.5 | I3: 03 | J3: G+ | K3: 02 | L3: 3 | M3: Northern Wind | O3: 1860 | P3: East Anglia Pakefield Road | Q3: Light brown sand w broken shells and pebbels, no smell
A4: HI1860_B03_003 | B4: 07/09/2024 | C4: 0.50138889 | D4: 52.417 | E4: 1.7712 | F4: fS,mS,M,cS,G,bkSh | G4: ='Fraction tool'!H13 -> Muddy Sand | H4: 11.3 | I4: 03 | J4: G+ | K4: 02 | L4: 2 | M4: Northern Wind | O4: 1860 | P4: East Anglia Pakefield Road | Q4: Dark brown sand/mud, broken shells, no smell
A5: HI1860_B03_004 | B5: 07/09/2024 | C5: 0.51041667 | D5: 52.4058 | E5: 1.7564 | F5: fS,M,mS,cS | G5: ='Fraction tool'!H17 -> Muddy Sand | H5: 12.4 | I5: 03 | J5: G+ | K5: 02 | L5: 2 | M5: Northern Wind | O5: 1860 | P5: East Anglia Pakefield Road | Q5: Dark brown sand/mud, no smell
G6: ='Fraction tool'!H21
G7: ='Fraction tool'!H25
G8: ='Fraction tool'!H29
G9: ='Fraction tool'!H33
G10: ='Fraction tool'!H37
G11: ='Fraction tool'!H41
G12: ='Fraction tool'!H45
G13: ='Fraction tool'!H49
G14: ='Fraction tool'!H53
G15: ='Fraction tool'!H57
G16: ='Fraction tool'!H61
G17: ='Fraction tool'!H65
G18: ='Fraction tool'!H69
G19: ='Fraction tool'!H73
G20: ='Fraction tool'!H77
G21: ='Fraction tool'!H81
G22: ='Fraction tool'!H85
G23: ='Fraction tool'!H89
G24: ='Fraction tool'!H93
G25: ='Fraction tool'!H97
G26: ='Fraction tool'!H101
G27: ='Fraction tool'!H105
G28: ='Fraction tool'!H109
G29: ='Fraction tool'!H113
G30: ='Fraction tool'!H117
G31: ='Fraction tool'!H121
G32: ='Fraction tool'!H125
G33: ='Fraction tool'!H129
G34: ='Fraction tool'!H133
G35: ='Fraction tool'!H137
G36: ='Fraction tool'!H141
G37: ='Fraction tool'!H145
G38: ='Fraction tool'!H149
G39: ='Fraction tool'!H153
G40: ='Fraction tool'!H157
G41: ='Fraction tool'!H161
G42: ='Fraction tool'!H165
G43: ='Fraction tool'!H169
G44: ='Fraction tool'!H173
G45: ='Fraction tool'!H177
G46: ='Fraction tool'!H181
G47: ='Fraction tool'!H185
G48: ='Fraction tool'!H189
G49: ='Fraction tool'!H193
G50: ='Fraction tool'!H197
G51: ='Fraction tool'!H201

Sheet Fraction tool
A3: Sample Name | B3: Gravel [%] | C3: Coarse Sand [%] | D3: Medium Sand [%] | E3: Fine Sand [%] | F3: Mud [%] | G3: TOT[%] | H3: Folk Classification | I3: Between Classifications
A4: ='HI1860'!A2 -> HI1860_B01_001
B5: 1 | C5: 5 | D5: 44 | E5: 50 | F5: 0 | G5: =SUM(B5:F5) -> 100 | H5: =IF(G5<>100,"",IF(B5>80,"Gravel",IF(AND(B5>30,(F5>=C5+D5+E5)),"Muddy Gravel",IF(AND(B5>30,((F5*9)>=C5+D5+E5)),"Muddy Sandy Gravel",IF(B5>30,"Sandy Gravel",IF(AND(B5>5,F5>=C5+D5+E5),"Gravelly Mud",IF(AND(B5>5,F5*9 >= C5+D5+E5),"Gravelly Muddy Sand",IF(B5>5,"Gravelly Sand",IF(F5/9>=C5+D5+E5,"Mud",IF(F5>=C5+D5+E5,"Sandy Mud",IF(F5*9 >=C5+D5+E5,"Muddy Sand","Sand"))))))))))) -> Sand | I5: =IF(G5<>100,"",IF(B5=80,"Yes",IF(B5=30,"Yes",IF(B5=5,"Yes",IF(AND(B5<80,F5=C5+D5+E5),"Yes",IF(AND(B5<5,F5*9=C5+D5+E5),"Yes",IF(AND(B5<80,F5/9=C5+D5+E5),"Yes","No"))))))) -> No
A7: Sample Name | B7: Gravel [%] | C7: Coarse Sand [%] | D7: Medium Sand [%] | E7: Fine Sand [%] | F7: Mud [%] | G7: TOT[%] | H7: Folk Classification | I7: Between Classifications
A8: ='HI1860'!A3 -> HI1860_B02_002
B9: 10 | C9: 44 | D9: 44 | E9: 2 | F9: 0 | G9: =SUM(B9:F9) -> 100 | H9: =IF(G9<>100,"",IF(B9>80,"Gravel",IF(AND(B9>30,(F9>=C9+D9+E9)),"Muddy Gravel",IF(AND(B9>30,((F9*9)>=C9+D9+E9)),"Muddy Sandy Gravel",IF(B9>30,"Sandy Gravel",IF(AND(B9>5,F9>=C9+D9+E9),"Gravelly Mud",IF(AND(B9>5,F9*9 >= C9+D9+E9),"Gravelly Muddy Sand",IF(B9>5,"Gravelly Sand",IF(F9/9>=C9+D9+E9,"Mud",IF(F9>=C9+D9+E9,"Sandy Mud",IF(F9*9 >=C9+D9+E9,"Muddy Sand","Sand"))))))))))) -> Gravelly Sand | I9: =IF(G9<>100,"",IF(B9=80,"Yes",IF(B9=30,"Yes",IF(B9=5,"Yes",IF(AND(B9<80,F9=C9+D9+E9),"Yes",IF(AND(B9<5,F9*9=C9+D9+E9),"Yes",IF(AND(B9<80,F9/9=C9+D9+E9),"Yes","No"))))))) -> No
A11: Sample Name | B11: Gravel [%] | C11: Coarse Sand [%] | D11: Medium Sand [%] | E11: Fine Sand [%] | F11: Mud [%] | G11: TOT[%] | H11: Folk Classification | I11: Between Classifications
A12: ='HI1860'!A4 -> HI1860_B03_003
B13: 5 | C13: 10 | D13: 30 | E13: 30 | F13: 25 | G13: =SUM(B13:F13) -> 100 | H13: =IF(G13<>100,"",IF(B13>80,"Gravel",IF(AND(B13>30,(F13>=C13+D13+E13)),"Muddy Gravel",IF(AND(B13>30,((F13*9)>=C13+D13+E13)),"Muddy Sandy Gravel",IF(B13>30,"Sandy Gravel",IF(AND(B13>5,F13>=C13+D13+E13),"Gravelly Mud",IF(AND(B13>5,F13*9 >= C13+D13+E13),"Gravelly Muddy Sand",IF(B13>5,"Gravelly Sand",IF(F13/9>=C13+D13+E13,"Mud",IF(F13>=C13+D13+E13,"Sandy Mud",IF(F13*9 >=C13+D13+E13,"Muddy Sand","Sand"))))))))))) -> Muddy Sand | I13: =IF(G13<>100,"",IF(B13=80,"Yes",IF(B13=30,"Yes",IF(B13=5,"Yes",IF(AND(B13<80,F13=C13+D13+E13),"Yes",IF(AND(B13<5,F13*9=C13+D13+E13),"Yes",IF(AND(B13<80,F13/9=C13+D13+E13),"Yes","No"))))))) -> Yes
A15: Sample Name | B15: Gravel [%] | C15: Coarse Sand [%] | D15: Medium Sand [%] | E15: Fine Sand [%] | F15: Mud [%] | G15: TOT[%] | H15: Folk Classification | I15: Between Classifications
A16: ='HI1860'!A5 -> HI1860_B03_004
B17: 0 | C17: 2 | D17: 18 | E17: 50 | F17: 30 | G17: =SUM(B17:F17) -> 100 | H17: =IF(G17<>100,"",IF(B17>80,"Gravel",IF(AND(B17>30,(F17>=C17+D17+E17)),"Muddy Gravel",IF(AND(B17>30,((F17*9)>=C17+D17+E17)),"Muddy Sandy Gravel",IF(B17>30,"Sandy Gravel",IF(AND(B17>5,F17>=C17+D17+E17),"Gravelly Mud",IF(AND(B17>5,F17*9 >= C17+D17+E17),"Gravelly Muddy Sand",IF(B17>5,"Gravelly Sand",IF(F17/9>=C17+D17+E17,"Mud",IF(F17>=C17+D17+E17,"Sandy Mud",IF(F17*9 >=C17+D17+E17,"Muddy Sand","Sand"))))))))))) -> Muddy Sand | I17: =IF(G17<>100,"",IF(B17=80,"Yes",IF(B17=30,"Yes",IF(B17=5,"Yes",IF(AND(B17<80,F17=C17+D17+E17),"Yes",IF(AND(B17<5,F17*9=C17+D17+E17),"Yes",IF(AND(B17<80,F17/9=C17+D17+E17),"Yes","No"))))))) -> No
A19: Sample Name | B19: Gravel [%] | C19: Coarse Sand [%] | D19: Medium Sand [%] | E19: Fine Sand [%] | F19: Mud [%] | G19: TOT[%] | H19: Folk Classification | I19: Between Classifications
A20: ='HI1860'!A6 -> 0
B21: 0 | C21: 0 | D21: 0 | E21: 0 | F21: 0 | G21: =SUM(B21:F21) -> 0 | H21: =IF(G21<>100,"",IF(B21>80,"Gravel",IF(AND(B21>30,(F21>=C21+D21+E21)),"Muddy Gravel",IF(AND(B21>30,((F21*9)>=C21+D21+E21)),"Muddy Sandy Gravel",IF(B21>30,"Sandy Gravel",IF(AND(B21>5,F21>=C21+D21+E21),"Gravelly Mud",IF(AND(B21>5,F21*9 >= C21+D21+E21),"Gravelly Muddy Sand",IF(B21>5,"Gravelly Sand",IF(F21/9>=C21+D21+E21,"Mud",IF(F21>=C21+D21+E21,"Sandy Mud",IF(F21*9 >=C21+D21+E21,"Muddy Sand","Sand"))))))))))) | I21: =IF(G21<>100,"",IF(B21=80,"Yes",IF(B21=30,"Yes",IF(B21=5,"Yes",IF(AND(B21<80,F21=C21+D21+E21),"Yes",IF(AND(B21<5,F21*9=C21+D21+E21),"Yes",IF(AND(B21<80,F21/9=C21+D21+E21),"Yes","No")))))))
A23: Sample Name | B23: Gravel [%] | C23: Coarse Sand [%] | D23: Medium Sand [%] | E23: Fine Sand [%] | F23: Mud [%] | G23: TOT[%] | H23: Folk Classification | I23: Between Classifications
A24: ='HI1860'!A7 -> 0
B25: 0 | C25: 0 | D25: 0 | E25: 0 | F25: 0 | G25: =SUM(B25:F25) -> 0 | H25: =IF(G25<>100,"",IF(B25>80,"Gravel",IF(AND(B25>30,(F25>=C25+D25+E25)),"Muddy Gravel",IF(AND(B25>30,((F25*9)>=C25+D25+E25)),"Muddy Sandy Gravel",IF(B25>30,"Sandy Gravel",IF(AND(B25>5,F25>=C25+D25+E25),"Gravelly Mud",IF(AND(B25>5,F25*9 >= C25+D25+E25),"Gravelly Muddy Sand",IF(B25>5,"Gravelly Sand",IF(F25/9>=C25+D25+E25,"Mud",IF(F25>=C25+D25+E25,"Sandy Mud",IF(F25*9 >=C25+D25+E25,"Muddy Sand","Sand"))))))))))) | I25: =IF(G25<>100,"",IF(B25=80,"Yes",IF(B25=30,"Yes",IF(B25=5,"Yes",IF(AND(B25<80,F25=C25+D25+E25),"Yes",IF(AND(B25<5,F25*9=C25+D25+E25),"Yes",IF(AND(B25<80,F25/9=C25+D25+E25),"Yes","No")))))))
A27: Sample Name | B27: Gravel [%] | C27: Coarse Sand [%] | D27: Medium Sand [%] | E27: Fine Sand [%] | F27: Mud [%] | G27: TOT[%] | H27: Folk Classification | I27: Between Classifications
A28: ='HI1860'!A8 -> 0
B29: 0 | C29: 0 | D29: 0 | E29: 0 | F29: 0 | G29: =SUM(B29:F29) -> 0 | H29: =IF(G29<>100,"",IF(B29>80,"Gravel",IF(AND(B29>30,(F29>=C29+D29+E29)),"Muddy Gravel",IF(AND(B29>30,((F29*9)>=C29+D29+E29)),"Muddy Sandy Gravel",IF(B29>30,"Sandy Gravel",IF(AND(B29>5,F29>=C29+D29+E29),"Gravelly Mud",IF(AND(B29>5,F29*9 >= C29+D29+E29),"Gravelly Muddy Sand",IF(B29>5,"Gravelly Sand",IF(F29/9>=C29+D29+E29,"Mud",IF(F29>=C29+D29+E29,"Sandy Mud",IF(F29*9 >=C29+D29+E29,"Muddy Sand","Sand"))))))))))) | I29: =IF(G29<>100,"",IF(B29=80,"Yes",IF(B29=30,"Yes",IF(B29=5,"Yes",IF(AND(B29<80,F29=C29+D29+E29),"Yes",IF(AND(B29<5,F29*9=C29+D29+E29),"Yes",IF(AND(B29<80,F29/9=C29+D29+E29),"Yes","No")))))))
A31: Sample Name | B31: Gravel [%] | C31: Coarse Sand [%] | D31: Medium Sand [%] | E31: Fine Sand [%] | F31: Mud [%] | G31: TOT[%] | H31: Folk Classification | I31: Between Classifications
A32: ='HI1860'!A9 -> 0
B33: 0 | C33: 0 | D33: 0 | E33: 0 | F33: 0 | G33: =SUM(B33:F33) -> 0 | H33: =IF(G33<>100,"",IF(B33>80,"Gravel",IF(AND(B33>30,(F33>=C33+D33+E33)),"Muddy Gravel",IF(AND(B33>30,((F33*9)>=C33+D33+E33)),"Muddy Sandy Gravel",IF(B33>30,"Sandy Gravel",IF(AND(B33>5,F33>=C33+D33+E33),"Gravelly Mud",IF(AND(B33>5,F33*9 >= C33+D33+E33),"Gravelly Muddy Sand",IF(B33>5,"Gravelly Sand",IF(F33/9>=C33+D33+E33,"Mud",IF(F33>=C33+D33+E33,"Sandy Mud",IF(F33*9 >=C33+D33+E33,"Muddy Sand","Sand"))))))))))) | I33: =IF(G33<>100,"",IF(B33=80,"Yes",IF(B33=30,"Yes",IF(B33=5,"Yes",IF(AND(B33<80,F33=C33+D33+E33),"Yes",IF(AND(B33<5,F33*9=C33+D33+E33),"Yes",IF(AND(B33<80,F33/9=C33+D33+E33),"Yes","No")))))))
A35: Sample Name | B35: Gravel [%] | C35: Coarse Sand [%] | D35: Medium Sand [%] | E35: Fine Sand [%] | F35: Mud [%] | G35: TOT[%] | H35: Folk Classification | I35: Between Classifications
A36: ='HI1860'!A10 -> 0
B37: 0 | C37: 0 | D37: 0 | E37: 0 | F37: 0 | G37: =SUM(B37:F37) -> 0 | H37: =IF(G37<>100,"",IF(B37>80,"Gravel",IF(AND(B37>30,(F37>=C37+D37+E37)),"Muddy Gravel",IF(AND(B37>30,((F37*9)>=C37+D37+E37)),"Muddy Sandy Gravel",IF(B37>30,"Sandy Gravel",IF(AND(B37>5,F37>=C37+D37+E37),"Gravelly Mud",IF(AND(B37>5,F37*9 >= C37+D37+E37),"Gravelly Muddy Sand",IF(B37>5,"Gravelly Sand",IF(F37/9>=C37+D37+E37,"Mud",IF(F37>=C37+D37+E37,"Sandy Mud",IF(F37*9 >=C37+D37+E37,"Muddy Sand","Sand"))))))))))) | I37: =IF(G37<>100,"",IF(B37=80,"Yes",IF(B37=30,"Yes",IF(B37=5,"Yes",IF(AND(B37<80,F37=C37+D37+E37),"Yes",IF(AND(B37<5,F37*9=C37+D37+E37),"Yes",IF(AND(B37<80,F37/9=C37+D37+E37),"Yes","No")))))))
A39: Sample Name | B39: Gravel [%] | C39: Coarse Sand [%] | D39: Medium Sand [%] | E39: Fine Sand [%] | F39: Mud [%] | G39: TOT[%] | H39: Folk Classification | I39: Between Classifications
A40: ='HI1860'!A11 -> 0
B41: 0 | C41: 0 | D41: 0 | E41: 0 | F41: 0 | G41: =SUM(B41:F41) -> 0 | H41: =IF(G41<>100,"",IF(B41>80,"Gravel",IF(AND(B41>30,(F41>=C41+D41+E41)),"Muddy Gravel",IF(AND(B41>30,((F41*9)>=C41+D41+E41)),"Muddy Sandy Gravel",IF(B41>30,"Sandy Gravel",IF(AND(B41>5,F41>=C41+D41+E41),"Gravelly Mud",IF(AND(B41>5,F41*9 >= C41+D41+E41),"Gravelly Muddy Sand",IF(B41>5,"Gravelly Sand",IF(F41/9>=C41+D41+E41,"Mud",IF(F41>=C41+D41+E41,"Sandy Mud",IF(F41*9 >=C41+D41+E41,"Muddy Sand","Sand"))))))))))) | I41: =IF(G41<>100,"",IF(B41=80,"Yes",IF(B41=30,"Yes",IF(B41=5,"Yes",IF(AND(B41<80,F41=C41+D41+E41),"Yes",IF(AND(B41<5,F41*9=C41+D41+E41),"Yes",IF(AND(B41<80,F41/9=C41+D41+E41),"Yes","No")))))))
A43: Sample Name | B43: Gravel [%] | C43: Coarse Sand [%] | D43: Medium Sand [%] | E43: Fine Sand [%] | F43: Mud [%] | G43: TOT[%] | H43: Folk Classification | I43: Between Classifications
A44: ='HI1860'!A12 -> 0
B45: 0 | C45: 0 | D45: 0 | E45: 0 | F45: 0 | G45: =SUM(B45:F45) -> 0 | H45: =IF(G45<>100,"",IF(B45>80,"Gravel",IF(AND(B45>30,(F45>=C45+D45+E45)),"Muddy Gravel",IF(AND(B45>30,((F45*9)>=C45+D45+E45)),"Muddy Sandy Gravel",IF(B45>30,"Sandy Gravel",IF(AND(B45>5,F45>=C45+D45+E45),"Gravelly Mud",IF(AND(B45>5,F45*9 >= C45+D45+E45),"Gravelly Muddy Sand",IF(B45>5,"Gravelly Sand",IF(F45/9>=C45+D45+E45,"Mud",IF(F45>=C45+D45+E45,"Sandy Mud",IF(F45*9 >=C45+D45+E45,"Muddy Sand","Sand"))))))))))) | I45: =IF(G45<>100,"",IF(B45=80,"Yes",IF(B45=30,"Yes",IF(B45=5,"Yes",IF(AND(B45<80,F45=C45+D45+E45),"Yes",IF(AND(B45<5,F45*9=C45+D45+E45),"Yes",IF(AND(B45<80,F45/9=C45+D45+E45),"Yes","No")))))))
A47: Sample Name | B47: Gravel [%] | C47: Coarse Sand [%] | D47: Medium Sand [%] | E47: Fine Sand [%] | F47: Mud [%] | G47: TOT[%] | H47: Folk Classification | I47: Between Classifications
A48: ='HI1860'!A13 -> 0
B49: 0 | C49: 0 | D49: 0 | E49: 0 | F49: 0 | G49: =SUM(B49:F49) -> 0 | H49: =IF(G49<>100,"",IF(B49>80,"Gravel",IF(AND(B49>30,(F49>=C49+D49+E49)),"Muddy Gravel",IF(AND(B49>30,((F49*9)>=C49+D49+E49)),"Muddy Sandy Gravel",IF(B49>30,"Sandy Gravel",IF(AND(B49>5,F49>=C49+D49+E49),"Gravelly Mud",IF(AND(B49>5,F49*9 >= C49+D49+E49),"Gravelly Muddy Sand",IF(B49>5,"Gravelly Sand",IF(F49/9>=C49+D49+E49,"Mud",IF(F49>=C49+D49+E49,"Sandy Mud",IF(F49*9 >=C49+D49+E49,"Muddy Sand","Sand"))))))))))) | I49: =IF(G49<>100,"",IF(B49=80,"Yes",IF(B49=30,"Yes",IF(B49=5,"Yes",IF(AND(B49<80,F49=C49+D49+E49),"Yes",IF(AND(B49<5,F49*9=C49+D49+E49),"Yes",IF(AND(B49<80,F49/9=C49+D49+E49),"Yes","No")))))))
A51: Sample Name | B51: Gravel [%] | C51: Coarse Sand [%] | D51: Medium Sand [%] | E51: Fine Sand [%] | F51: Mud [%] | G51: TOT[%] | H51: Folk Classification | I51: Between Classifications
A52: ='HI1860'!A14 -> 0
B53: 0 | C53: 0 | D53: 0 | E53: 0 | F53: 0 | G53: =SUM(B53:F53) -> 0 | H53: =IF(G53<>100,"",IF(B53>80,"Gravel",IF(AND(B53>30,(F53>=C53+D53+E53)),"Muddy Gravel",IF(AND(B53>30,((F53*9)>=C53+D53+E53)),"Muddy Sandy Gravel",IF(B53>30,"Sandy Gravel",IF(AND(B53>5,F53>=C53+D53+E53),"Gravelly Mud",IF(AND(B53>5,F53*9 >= C53+D53+E53),"Gravelly Muddy Sand",IF(B53>5,"Gravelly Sand",IF(F53/9>=C53+D53+E53,"Mud",IF(F53>=C53+D53+E53,"Sandy Mud",IF(F53*9 >=C53+D53+E53,"Muddy Sand","Sand"))))))))))) | I53: =IF(G53<>100,"",IF(B53=80,"Yes",IF(B53=30,"Yes",IF(B53=5,"Yes",IF(AND(B53<80,F53=C53+D53+E53),"Yes",IF(AND(B53<5,F53*9=C53+D53+E53),"Yes",IF(AND(B53<80,F53/9=C53+D53+E53),"Yes","No")))))))
A55: Sample Name | B55: Gravel [%] | C55: Coarse Sand [%] | D55: Medium Sand [%] | E55: Fine Sand [%] | F55: Mud [%] | G55: TOT[%] | H55: Folk Classification | I55: Between Classifications
A56: ='HI1860'!A15 -> 0
B57: 0 | C57: 0 | D57: 0 | E57: 0 | F57: 0 | G57: =SUM(B57:F57) -> 0 | H57: =IF(G57<>100,"",IF(B57>80,"Gravel",IF(AND(B57>30,(F57>=C57+D57+E57)),"Muddy Gravel",IF(AND(B57>30,((F57*9)>=C57+D57+E57)),"Muddy Sandy Gravel",IF(B57>30,"Sandy Gravel",IF(AND(B57>5,F57>=C57+D57+E57),"Gravelly Mud",IF(AND(B57>5,F57*9 >= C57+D57+E57),"Gravelly Muddy Sand",IF(B57>5,"Gravelly Sand",IF(F57/9>=C57+D57+E57,"Mud",IF(F57>=C57+D57+E57,"Sandy Mud",IF(F57*9 >=C57+D57+E57,"Muddy Sand","Sand"))))))))))) | I57: =IF(G57<>100,"",IF(B57=80,"Yes",IF(B57=30,"Yes",IF(B57=5,"Yes",IF(AND(B57<80,F57=C57+D57+E57),"Yes",IF(AND(B57<5,F57*9=C57+D57+E57),"Yes",IF(AND(B57<80,F57/9=C57+D57+E57),"Yes","No")))))))
A59: Sample Name | B59: Gravel [%] | C59: Coarse Sand [%] | D59: Medium Sand [%] | E59: Fine Sand [%] | F59: Mud [%] | G59: TOT[%] | H59: Folk Classification | I59: Between Classifications
A60: ='HI1860'!A16 -> 0
B61: 0 | C61: 0 | D61: 0 | E61: 0 | F61: 0 | G61: =SUM(B61:F61) -> 0 | H61: =IF(G61<>100,"",IF(B61>80,"Gravel",IF(AND(B61>30,(F61>=C61+D61+E61)),"Muddy Gravel",IF(AND(B61>30,((F61*9)>=C61+D61+E61)),"Muddy Sandy Gravel",IF(B61>30,"Sandy Gravel",IF(AND(B61>5,F61>=C61+D61+E61),"Gravelly Mud",IF(AND(B61>5,F61*9 >= C61+D61+E61),"Gravelly Muddy Sand",IF(B61>5,"Gravelly Sand",IF(F61/9>=C61+D61+E61,"Mud",IF(F61>=C61+D61+E61,"Sandy Mud",IF(F61*9 >=C61+D61+E61,"Muddy Sand","Sand"))))))))))) | I61: =IF(G61<>100,"",IF(B61=80,"Yes",IF(B61=30,"Yes",IF(B61=5,"Yes",IF(AND(B61<80,F61=C61+D61+E61),"Yes",IF(AND(B61<5,F61*9=C61+D61+E61),"Yes",IF(AND(B61<80,F61/9=C61+D61+E61),"Yes","No")))))))
A63: Sample Name | B63: Gravel [%] | C63: Coarse Sand [%] | D63: Medium Sand [%] | E63: Fine Sand [%] | F63: Mud [%] | G63: TOT[%] | H63: Folk Classification | I63: Between Classifications
A64: ='HI1860'!A17 -> 0
B65: 0 | C65: 0 | D65: 0 | E65: 0 | F65: 0 | G65: =SUM(B65:F65) -> 0 | H65: =IF(G65<>100,"",IF(B65>80,"Gravel",IF(AND(B65>30,(F65>=C65+D65+E65)),"Muddy Gravel",IF(AND(B65>30,((F65*9)>=C65+D65+E65)),"Muddy Sandy Gravel",IF(B65>30,"Sandy Gravel",IF(AND(B65>5,F65>=C65+D65+E65),"Gravelly Mud",IF(AND(B65>5,F65*9 >= C65+D65+E65),"Gravelly Muddy Sand",IF(B65>5,"Gravelly Sand",IF(F65/9>=C65+D65+E65,"Mud",IF(F65>=C65+D65+E65,"Sandy Mud",IF(F65*9 >=C65+D65+E65,"Muddy Sand","Sand"))))))))))) | I65: =IF(G65<>100,"",IF(B65=80,"Yes",IF(B65=30,"Yes",IF(B65=5,"Yes",IF(AND(B65<80,F65=C65+D65+E65),"Yes",IF(AND(B65<5,F65*9=C65+D65+E65),"Yes",IF(AND(B65<80,F65/9=C65+D65+E65),"Yes","No")))))))
A67: Sample Name | B67: Gravel [%] | C67: Coarse Sand [%] | D67: Medium Sand [%] | E67: Fine Sand [%] | F67: Mud [%] | G67: TOT[%] | H67: Folk Classification | I67: Between Classifications
A68: ='HI1860'!A18 -> 0
B69: 0 | C69: 0 | D69: 0 | E69: 0 | F69: 0 | G69: =SUM(B69:F69) -> 0 | H69: =IF(G69<>100,"",IF(B69>80,"Gravel",IF(AND(B69>30,(F69>=C69+D69+E69)),"Muddy Gravel",IF(AND(B69>30,((F69*9)>=C69+D69+E69)),"Muddy Sandy Gravel",IF(B69>30,"Sandy Gravel",IF(AND(B69>5,F69>=C69+D69+E69),"Gravelly Mud",IF(AND(B69>5,F69*9 >= C69+D69+E69),"Gravelly Muddy Sand",IF(B69>5,"Gravelly Sand",IF(F69/9>=C69+D69+E69,"Mud",IF(F69>=C69+D69+E69,"Sandy Mud",IF(F69*9 >=C69+D69+E69,"Muddy Sand","Sand"))))))))))) | I69: =IF(G69<>100,"",IF(B69=80,"Yes",IF(B69=30,"Yes",IF(B69=5,"Yes",IF(AND(B69<80,F69=C69+D69+E69),"Yes",IF(AND(B69<5,F69*9=C69+D69+E69),"Yes",IF(AND(B69<80,F69/9=C69+D69+E69),"Yes","No")))))))
A71: Sample Name | B71: Gravel [%] | C71: Coarse Sand [%] | D71: Medium Sand [%] | E71: Fine Sand [%] | F71: Mud [%] | G71: TOT[%] | H71: Folk Classification | I71: Between Classifications
A72: ='HI1860'!A19 -> 0
B73: 0 | C73: 0 | D73: 0 | E73: 0 | F73: 0 | G73: =SUM(B73:F73) -> 0 | H73: =IF(G73<>100,"",IF(B73>80,"Gravel",IF(AND(B73>30,(F73>=C73+D73+E73)),"Muddy Gravel",IF(AND(B73>30,((F73*9)>=C73+D73+E73)),"Muddy Sandy Gravel",IF(B73>30,"Sandy Gravel",IF(AND(B73>5,F73>=C73+D73+E73),"Gravelly Mud",IF(AND(B73>5,F73*9 >= C73+D73+E73),"Gravelly Muddy Sand",IF(B73>5,"Gravelly Sand",IF(F73/9>=C73+D73+E73,"Mud",IF(F73>=C73+D73+E73,"Sandy Mud",IF(F73*9 >=C73+D73+E73,"Muddy Sand","Sand"))))))))))) | I73: =IF(G73<>100,"",IF(B73=80,"Yes",IF(B73=30,"Yes",IF(B73=5,"Yes",IF(AND(B73<80,F73=C73+D73+E73),"Yes",IF(AND(B73<5,F73*9=C73+D73+E73),"Yes",IF(AND(B73<80,F73/9=C73+D73+E73),"Yes","No")))))))
A75: Sample Name | B75: Gravel [%] | C75: Coarse Sand [%] | D75: Medium Sand [%] | E75: Fine Sand [%] | F75: Mud [%] | G75: TOT[%] | H75: Folk Classification | I75: Between Classifications
A76: ='HI1860'!A20 -> 0
B77: 0 | C77: 0 | D77: 0 | E77: 0 | F77: 0 | G77: =SUM(B77:F77) -> 0 | H77: =IF(G77<>100,"",IF(B77>80,"Gravel",IF(AND(B77>30,(F77>=C77+D77+E77)),"Muddy Gravel",IF(AND(B77>30,((F77*9)>=C77+D77+E77)),"Muddy Sandy Gravel",IF(B77>30,"Sandy Gravel",IF(AND(B77>5,F77>=C77+D77+E77),"Gravelly Mud",IF(AND(B77>5,F77*9 >= C77+D77+E77),"Gravelly Muddy Sand",IF(B77>5,"Gravelly Sand",IF(F77/9>=C77+D77+E77,"Mud",IF(F77>=C77+D77+E77,"Sandy Mud",IF(F77*9 >=C77+D77+E77,"Muddy Sand","Sand"))))))))))) | I77: =IF(G77<>100,"",IF(B77=80,"Yes",IF(B77=30,"Yes",IF(B77=5,"Yes",IF(AND(B77<80,F77=C77+D77+E77),"Yes",IF(AND(B77<5,F77*9=C77+D77+E77),"Yes",IF(AND(B77<80,F77/9=C77+D77+E77),"Yes","No")))))))
A79: Sample Name | B79: Gravel [%] | C79: Coarse Sand [%] | D79: Medium Sand [%] | E79: Fine Sand [%] | F79: Mud [%] | G79: TOT[%] | H79: Folk Classification | I79: Between Classifications
A80: ='HI1860'!A21 -> 0
B81: 0 | C81: 0 | D81: 0 | E81: 0 | F81: 0 | G81: =SUM(B81:F81) -> 0 | H81: =IF(G81<>100,"",IF(B81>80,"Gravel",IF(AND(B81>30,(F81>=C81+D81+E81)),"Muddy Gravel",IF(AND(B81>30,((F81*9)>=C81+D81+E81)),"Muddy Sandy Gravel",IF(B81>30,"Sandy Gravel",IF(AND(B81>5,F81>=C81+D81+E81),"Gravelly Mud",IF(AND(B81>5,F81*9 >= C81+D81+E81),"Gravelly Muddy Sand",IF(B81>5,"Gravelly Sand",IF(F81/9>=C81+D81+E81,"Mud",IF(F81>=C81+D81+E81,"Sandy Mud",IF(F81*9 >=C81+D81+E81,"Muddy Sand","Sand"))))))))))) | I81: =IF(G81<>100,"",IF(B81=80,"Yes",IF(B81=30,"Yes",IF(B81=5,"Yes",IF(AND(B81<80,F81=C81+D81+E81),"Yes",IF(AND(B81<5,F81*9=C81+D81+E81),"Yes",IF(AND(B81<80,F81/9=C81+D81+E81),"Yes","No")))))))
A83: Sample Name | B83: Gravel [%] | C83: Coarse Sand [%] | D83: Medium Sand [%] | E83: Fine Sand [%] | F83: Mud [%] | G83: TOT[%] | H83: Folk Classification | I83: Between Classifications
A84: ='HI1860'!A22 -> 0
B85: 0 | C85: 0 | D85: 0 | E85: 0 | F85: 0 | G85: =SUM(B85:F85) -> 0 | H85: =IF(G85<>100,"",IF(B85>80,"Gravel",IF(AND(B85>30,(F85>=C85+D85+E85)),"Muddy Gravel",IF(AND(B85>30,((F85*9)>=C85+D85+E85)),"Muddy Sandy Gravel",IF(B85>30,"Sandy Gravel",IF(AND(B85>5,F85>=C85+D85+E85),"Gravelly Mud",IF(AND(B85>5,F85*9 >= C85+D85+E85),"Gravelly Muddy Sand",IF(B85>5,"Gravelly Sand",IF(F85/9>=C85+D85+E85,"Mud",IF(F85>=C85+D85+E85,"Sandy Mud",IF(F85*9 >=C85+D85+E85,"Muddy Sand","Sand"))))))))))) | I85: =IF(G85<>100,"",IF(B85=80,"Yes",IF(B85=30,"Yes",IF(B85=5,"Yes",IF(AND(B85<80,F85=C85+D85+E85),"Yes",IF(AND(B85<5,F85*9=C85+D85+E85),"Yes",IF(AND(B85<80,F85/9=C85+D85+E85),"Yes","No")))))))
A87: Sample Name | B87: Gravel [%] | C87: Coarse Sand [%] | D87: Medium Sand [%] | E87: Fine Sand [%] | F87: Mud [%] | G87: TOT[%] | H87: Folk Classification | I87: Between Classifications
A88: ='HI1860'!A23 -> 0
B89: 0 | C89: 0 | D89: 0 | E89: 0 | F89: 0 | G89: =SUM(B89:F89) -> 0 | H89: =IF(G89<>100,"",IF(B89>80,"Gravel",IF(AND(B89>30,(F89>=C89+D89+E89)),"Muddy Gravel",IF(AND(B89>30,((F89*9)>=C89+D89+E89)),"Muddy Sandy Gravel",IF(B89>30,"Sandy Gravel",IF(AND(B89>5,F89>=C89+D89+E89),"Gravelly Mud",IF(AND(B89>5,F89*9 >= C89+D89+E89),"Gravelly Muddy Sand",IF(B89>5,"Gravelly Sand",IF(F89/9>=C89+D89+E89,"Mud",IF(F89>=C89+D89+E89,"Sandy Mud",IF(F89*9 >=C89+D89+E89,"Muddy Sand","Sand"))))))))))) | I89: =IF(G89<>100,"",IF(B89=80,"Yes",IF(B89=30,"Yes",IF(B89=5,"Yes",IF(AND(B89<80,F89=C89+D89+E89),"Yes",IF(AND(B89<5,F89*9=C89+D89+E89),"Yes",IF(AND(B89<80,F89/9=C89+D89+E89),"Yes","No")))))))
A91: Sample Name | B91: Gravel [%] | C91: Coarse Sand [%] | D91: Medium Sand [%] | E91: Fine Sand [%] | F91: Mud [%] | G91: TOT[%] | H91: Folk Classification | I91: Between Classifications
A92: ='HI1860'!A24 -> 0
B93: 0 | C93: 0 | D93: 0 | E93: 0 | F93: 0 | G93: =SUM(B93:F93) -> 0 | H93: =IF(G93<>100,"",IF(B93>80,"Gravel",IF(AND(B93>30,(F93>=C93+D93+E93)),"Muddy Gravel",IF(AND(B93>30,((F93*9)>=C93+D93+E93)),"Muddy Sandy Gravel",IF(B93>30,"Sandy Gravel",IF(AND(B93>5,F93>=C93+D93+E93),"Gravelly Mud",IF(AND(B93>5,F93*9 >= C93+D93+E93),"Gravelly Muddy Sand",IF(B93>5,"Gravelly Sand",IF(F93/9>=C93+D93+E93,"Mud",IF(F93>=C93+D93+E93,"Sandy Mud",IF(F93*9 >=C93+D93+E93,"Muddy Sand","Sand"))))))))))) | I93: =IF(G93<>100,"",IF(B93=80,"Yes",IF(B93=30,"Yes",IF(B93=5,"Yes",IF(AND(B93<80,F93=C93+D93+E93),"Yes",IF(AND(B93<5,F93*9=C93+D93+E93),"Yes",IF(AND(B93<80,F93/9=C93+D93+E93),"Yes","No")))))))
A95: Sample Name | B95: Gravel [%] | C95: Coarse Sand [%] | D95: Medium Sand [%] | E95: Fine Sand [%] | F95: Mud [%] | G95: TOT[%] | H95: Folk Classification | I95: Between Classifications
A96: ='HI1860'!A25 -> 0
B97: 0 | C97: 0 | D97: 0 | E97: 0 | F97: 0 | G97: =SUM(B97:F97) -> 0 | H97: =IF(G97<>100,"",IF(B97>80,"Gravel",IF(AND(B97>30,(F97>=C97+D97+E97)),"Muddy Gravel",IF(AND(B97>30,((F97*9)>=C97+D97+E97)),"Muddy Sandy Gravel",IF(B97>30,"Sandy Gravel",IF(AND(B97>5,F97>=C97+D97+E97),"Gravelly Mud",IF(AND(B97>5,F97*9 >= C97+D97+E97),"Gravelly Muddy Sand",IF(B97>5,"Gravelly Sand",IF(F97/9>=C97+D97+E97,"Mud",IF(F97>=C97+D97+E97,"Sandy Mud",IF(F97*9 >=C97+D97+E97,"Muddy Sand","Sand"))))))))))) | I97: =IF(G97<>100,"",IF(B97=80,"Yes",IF(B97=30,"Yes",IF(B97=5,"Yes",IF(AND(B97<80,F97=C97+D97+E97),"Yes",IF(AND(B97<5,F97*9=C97+D97+E97),"Yes",IF(AND(B97<80,F97/9=C97+D97+E97),"Yes","No")))))))
A99: Sample Name | B99: Gravel [%] | C99: Coarse Sand [%] | D99: Medium Sand [%] | E99: Fine Sand [%] | F99: Mud [%] | G99: TOT[%] | H99: Folk Classification | I99: Between Classifications
A100: ='HI1860'!A26 -> 0
B101: 0 | C101: 0 | D101: 0 | E101: 0 | F101: 0 | G101: =SUM(B101:F101) -> 0 | H101: =IF(G101<>100,"",IF(B101>80,"Gravel",IF(AND(B101>30,(F101>=C101+D101+E101)),"Muddy Gravel",IF(AND(B101>30,((F101*9)>=C101+D101+E101)),"Muddy Sandy Gravel",IF(B101>30,"Sandy Gravel",IF(AND(B101>5,F101>=C101+D101+E101),"Gravelly Mud",IF(AND(B101>5,F101*9 >= C101+D101+E101),"Gravelly Muddy Sand",IF(B101>5,"Gravelly Sand",IF(F101/9>=C101+D101+E101,"Mud",IF(F101>=C101+D101+E101,"Sandy Mud",IF(F101*9 >=C101+D101+E101,"Muddy Sand","Sand"))))))))))) | I101: =IF(G101<>100,"",IF(B101=80,"Yes",IF(B101=30,"Yes",IF(B101=5,"Yes",IF(AND(B101<80,F101=C101+D101+E101),"Yes",IF(AND(B101<5,F101*9=C101+D101+E101),"Yes",IF(AND(B101<80,F101/9=C101+D101+E101),"Yes","No")))))))
A103: Sample Name | B103: Gravel [%] | C103: Coarse Sand [%] | D103: Medium Sand [%] | E103: Fine Sand [%] | F103: Mud [%] | G103: TOT[%] | H103: Folk Classification | I103: Between Classifications
A104: ='HI1860'!A27 -> 0
B105: 0 | C105: 0 | D105: 0 | E105: 0 | F105: 0 | G105: =SUM(B105:F105) -> 0 | H105: =IF(G105<>100,"",IF(B105>80,"Gravel",IF(AND(B105>30,(F105>=C105+D105+E105)),"Muddy Gravel",IF(AND(B105>30,((F105*9)>=C105+D105+E105)),"Muddy Sandy Gravel",IF(B105>30,"Sandy Gravel",IF(AND(B105>5,F105>=C105+D105+E105),"Gravelly Mud",IF(AND(B105>5,F105*9 >= C105+D105+E105),"Gravelly Muddy Sand",IF(B105>5,"Gravelly Sand",IF(F105/9>=C105+D105+E105,"Mud",IF(F105>=C105+D105+E105,"Sandy Mud",IF(F105*9 >=C105+D105+E105,"Muddy Sand","Sand"))))))))))) | I105: =IF(G105<>100,"",IF(B105=80,"Yes",IF(B105=30,"Yes",IF(B105=5,"Yes",IF(AND(B105<80,F105=C105+D105+E105),"Yes",IF(AND(B105<5,F105*9=C105+D105+E105),"Yes",IF(AND(B105<80,F105/9=C105+D105+E105),"Yes","No")))))))
A107: Sample Name | B107: Gravel [%] | C107: Coarse Sand [%] | D107: Medium Sand [%] | E107: Fine Sand [%] | F107: Mud [%] | G107: TOT[%] | H107: Folk Classification | I107: Between Classifications
A108: ='HI1860'!A28 -> 0
B109: 0 | C109: 0 | D109: 0 | E109: 0 | F109: 0 | G109: =SUM(B109:F109) -> 0 | H109: =IF(G109<>100,"",IF(B109>80,"Gravel",IF(AND(B109>30,(F109>=C109+D109+E109)),"Muddy Gravel",IF(AND(B109>30,((F109*9)>=C109+D109+E109)),"Muddy Sandy Gravel",IF(B109>30,"Sandy Gravel",IF(AND(B109>5,F109>=C109+D109+E109),"Gravelly Mud",IF(AND(B109>5,F109*9 >= C109+D109+E109),"Gravelly Muddy Sand",IF(B109>5,"Gravelly Sand",IF(F109/9>=C109+D109+E109,"Mud",IF(F109>=C109+D109+E109,"Sandy Mud",IF(F109*9 >=C109+D109+E109,"Muddy Sand","Sand"))))))))))) | I109: =IF(G109<>100,"",IF(B109=80,"Yes",IF(B109=30,"Yes",IF(B109=5,"Yes",IF(AND(B109<80,F109=C109+D109+E109),"Yes",IF(AND(B109<5,F109*9=C109+D109+E109),"Yes",IF(AND(B109<80,F109/9=C109+D109+E109),"Yes","No")))))))
A111: Sample Name | B111: Gravel [%] | C111: Coarse Sand [%] | D111: Medium Sand [%] | E111: Fine Sand [%] | F111: Mud [%] | G111: TOT[%] | H111: Folk Classification | I111: Between Classifications
A112: ='HI1860'!A29 -> 0
B113: 0 | C113: 0 | D113: 0 | E113: 0 | F113: 0 | G113: =SUM(B113:F113) -> 0 | H113: =IF(G113<>100,"",IF(B113>80,"Gravel",IF(AND(B113>30,(F113>=C113+D113+E113)),"Muddy Gravel",IF(AND(B113>30,((F113*9)>=C113+D113+E113)),"Muddy Sandy Gravel",IF(B113>30,"Sandy Gravel",IF(AND(B113>5,F113>=C113+D113+E113),"Gravelly Mud",IF(AND(B113>5,F113*9 >= C113+D113+E113),"Gravelly Muddy Sand",IF(B113>5,"Gravelly Sand",IF(F113/9>=C113+D113+E113,"Mud",IF(F113>=C113+D113+E113,"Sandy Mud",IF(F113*9 >=C113+D113+E113,"Muddy Sand","Sand"))))))))))) | I113: =IF(G113<>100,"",IF(B113=80,"Yes",IF(B113=30,"Yes",IF(B113=5,"Yes",IF(AND(B113<80,F113=C113+D113+E113),"Yes",IF(AND(B113<5,F113*9=C113+D113+E113),"Yes",IF(AND(B113<80,F113/9=C113+D113+E113),"Yes","No")))))))
A115: Sample Name | B115: Gravel [%] | C115: Coarse Sand [%] | D115: Medium Sand [%] | E115: Fine Sand [%] | F115: Mud [%] | G115: TOT[%] | H115: Folk Classification | I115: Between Classifications
A116: ='HI1860'!A30 -> 0
B117: 0 | C117: 0 | D117: 0 | E117: 0 | F117: 0 | G117: =SUM(B117:F117) -> 0 | H117: =IF(G117<>100,"",IF(B117>80,"Gravel",IF(AND(B117>30,(F117>=C117+D117+E117)),"Muddy Gravel",IF(AND(B117>30,((F117*9)>=C117+D117+E117)),"Muddy Sandy Gravel",IF(B117>30,"Sandy Gravel",IF(AND(B117>5,F117>=C117+D117+E117),"Gravelly Mud",IF(AND(B117>5,F117*9 >= C117+D117+E117),"Gravelly Muddy Sand",IF(B117>5,"Gravelly Sand",IF(F117/9>=C117+D117+E117,"Mud",IF(F117>=C117+D117+E117,"Sandy Mud",IF(F117*9 >=C117+D117+E117,"Muddy Sand","Sand"))))))))))) | I117: =IF(G117<>100,"",IF(B117=80,"Yes",IF(B117=30,"Yes",IF(B117=5,"Yes",IF(AND(B117<80,F117=C117+D117+E117),"Yes",IF(AND(B117<5,F117*9=C117+D117+E117),"Yes",IF(AND(B117<80,F117/9=C117+D117+E117),"Yes","No")))))))
A119: Sample Name | B119: Gravel [%] | C119: Coarse Sand [%] | D119: Medium Sand [%] | E119: Fine Sand [%] | F119: Mud [%] | G119: TOT[%] | H119: Folk Classification | I119: Between Classifications
A120: ='HI1860'!A31 -> 0
B121: 0 | C121: 0 | D121: 0 | E121: 0 | F121: 0 | G121: =SUM(B121:F121) -> 0 | H121: =IF(G121<>100,"",IF(B121>80,"Gravel",IF(AND(B121>30,(F121>=C121+D121+E121)),"Muddy Gravel",IF(AND(B121>30,((F121*9)>=C121+D121+E121)),"Muddy Sandy Gravel",IF(B121>30,"Sandy Gravel",IF(AND(B121>5,F121>=C121+D121+E121),"Gravelly Mud",IF(AND(B121>5,F121*9 >= C121+D121+E121),"Gravelly Muddy Sand",IF(B121>5,"Gravelly Sand",IF(F121/9>=C121+D121+E121,"Mud",IF(F121>=C121+D121+E121,"Sandy Mud",IF(F121*9 >=C121+D121+E121,"Muddy Sand","Sand"))))))))))) | I121: =IF(G121<>100,"",IF(B121=80,"Yes",IF(B121=30,"Yes",IF(B121=5,"Yes",IF(AND(B121<80,F121=C121+D121+E121),"Yes",IF(AND(B121<5,F121*9=C121+D121+E121),"Yes",IF(AND(B121<80,F121/9=C121+D121+E121),"Yes","No")))))))
A123: Sample Name | B123: Gravel [%] | C123: Coarse Sand [%] | D123: Medium Sand [%] | E123: Fine Sand [%] | F123: Mud [%] | G123: TOT[%] | H123: Folk Classification | I123: Between Classifications
A124: ='HI1860'!A32 -> 0
B125: 0 | C125: 0 | D125: 0 | E125: 0 | F125: 0 | G125: =SUM(B125:F125) -> 0 | H125: =IF(G125<>100,"",IF(B125>80,"Gravel",IF(AND(B125>30,(F125>=C125+D125+E125)),"Muddy Gravel",IF(AND(B125>30,((F125*9)>=C125+D125+E125)),"Muddy Sandy Gravel",IF(B125>30,"Sandy Gravel",IF(AND(B125>5,F125>=C125+D125+E125),"Gravelly Mud",IF(AND(B125>5,F125*9 >= C125+D125+E125),"Gravelly Muddy Sand",IF(B125>5,"Gravelly Sand",IF(F125/9>=C125+D125+E125,"Mud",IF(F125>=C125+D125+E125,"Sandy Mud",IF(F125*9 >=C125+D125+E125,"Muddy Sand","Sand"))))))))))) | I125: =IF(G125<>100,"",IF(B125=80,"Yes",IF(B125=30,"Yes",IF(B125=5,"Yes",IF(AND(B125<80,F125=C125+D125+E125),"Yes",IF(AND(B125<5,F125*9=C125+D125+E125),"Yes",IF(AND(B125<80,F125/9=C125+D125+E125),"Yes","No")))))))
A127: Sample Name | B127: Gravel [%] | C127: Coarse Sand [%] | D127: Medium Sand [%] | E127: Fine Sand [%] | F127: Mud [%] | G127: TOT[%] | H127: Folk Classification | I127: Between Classifications
A128: ='HI1860'!A33 -> 0
B129: 0 | C129: 0 | D129: 0 | E129: 0 | F129: 0 | G129: =SUM(B129:F129) -> 0 | H129: =IF(G129<>100,"",IF(B129>80,"Gravel",IF(AND(B129>30,(F129>=C129+D129+E129)),"Muddy Gravel",IF(AND(B129>30,((F129*9)>=C129+D129+E129)),"Muddy Sandy Gravel",IF(B129>30,"Sandy Gravel",IF(AND(B129>5,F129>=C129+D129+E129),"Gravelly Mud",IF(AND(B129>5,F129*9 >= C129+D129+E129),"Gravelly Muddy Sand",IF(B129>5,"Gravelly Sand",IF(F129/9>=C129+D129+E129,"Mud",IF(F129>=C129+D129+E129,"Sandy Mud",IF(F129*9 >=C129+D129+E129,"Muddy Sand","Sand"))))))))))) | I129: =IF(G129<>100,"",IF(B129=80,"Yes",IF(B129=30,"Yes",IF(B129=5,"Yes",IF(AND(B129<80,F129=C129+D129+E129),"Yes",IF(AND(B129<5,F129*9=C129+D129+E129),"Yes",IF(AND(B129<80,F129/9=C129+D129+E129),"Yes","No")))))))
A131: Sample Name | B131: Gravel [%] | C131: Coarse Sand [%] | D131: Medium Sand [%] | E131: Fine Sand [%] | F131: Mud [%] | G131: TOT[%] | H131: Folk Classification | I131: Between Classifications
A132: ='HI1860'!A34 -> 0
B133: 0 | C133: 0 | D133: 0 | E133: 0 | F133: 0 | G133: =SUM(B133:F133) -> 0 | H133: =IF(G133<>100,"",IF(B133>80,"Gravel",IF(AND(B133>30,(F133>=C133+D133+E133)),"Muddy Gravel",IF(AND(B133>30,((F133*9)>=C133+D133+E133)),"Muddy Sandy Gravel",IF(B133>30,"Sandy Gravel",IF(AND(B133>5,F133>=C133+D133+E133),"Gravelly Mud",IF(AND(B133>5,F133*9 >= C133+D133+E133),"Gravelly Muddy Sand",IF(B133>5,"Gravelly Sand",IF(F133/9>=C133+D133+E133,"Mud",IF(F133>=C133+D133+E133,"Sandy Mud",IF(F133*9 >=C133+D133+E133,"Muddy Sand","Sand"))))))))))) | I133: =IF(G133<>100,"",IF(B133=80,"Yes",IF(B133=30,"Yes",IF(B133=5,"Yes",IF(AND(B133<80,F133=C133+D133+E133),"Yes",IF(AND(B133<5,F133*9=C133+D133+E133),"Yes",IF(AND(B133<80,F133/9=C133+D133+E133),"Yes","No")))))))
A135: Sample Name | B135: Gravel [%] | C135: Coarse Sand [%] | D135: Medium Sand [%] | E135: Fine Sand [%] | F135: Mud [%] | G135: TOT[%] | H135: Folk Classification | I135: Between Classifications
...

Sheet Position conv.
B2: ID | C2: deg | D2: min | E2: C.dir | F2: deg.dec | G2: INPUT H575
B3: 3 | C3: 56 | D3: 28.2 | E3: N | F3: =D3/60 -> 0.47 | G3: =(F3+C3)*IF(E3="W",-1,1) -> 56.47 | H3: N
C4: 4 | D4: 12.2 | E4: W | F4: =D4/60 -> 0.20333333 | G4: =(F4+C4)*IF(E4="W",-1,1) -> -4.2033333 | H4: E
B6: 4 | C6: 56 | D6: 28.2 | E6: N | F6: =D6/60 -> 0.47 | G6: =(F6+C6)*IF(E6="W",-1,1) -> 56.47 | H6: N
C7: 0 | D7: 43.77 | E7: W | F7: =D7/60 -> 0.7295 | G7: =(F7+C7)*IF(E7="W",-1,1) -> -0.7295 | H7: E
B9: 5 | C9: 54 | D9: 32.8 | E9: N | F9: =D9/60 -> 0.54666667 | G9: =(F9+C9)*IF(E9="W",-1,1) -> 54.546667 | H9: N
C10: 0 | D10: 44.06 | E10: W | F10: =D10/60 -> 0.73433333 | G10: =(F10+C10)*IF(E10="W",-1,1) -> -0.73433333 | H10: E
B13: H575 document requires the position recording in latitude, longitude in decimal degrees.
B14: Use at least four decimal places of lat/long to give the expected position accuracy.
B15: If taking screenshots of the NP HMD to record the sample position you can set up a data view display giving the position in decimal degrees if you first set the geographical format to decimal degrees in project settings
B16: Alternatively use Eiva GeoCalc which is installed with NaviPac to convert from different position formats or the above excel calculations if converting from dd mm.mm to dd.dddd

Sheet Information
